BEGIN:VCALENDAR
VERSION:2.0
PRODID:-//CRUCIBLE - ECPv6.1.3//NONSGML v1.0//EN
CALSCALE:GREGORIAN
METHOD:PUBLISH
X-WR-CALNAME:CRUCIBLE
X-ORIGINAL-URL:https://www.crucible.at
X-WR-CALDESC:Veranstaltungen für CRUCIBLE
REFRESH-INTERVAL;VALUE=DURATION:PT1H
X-Robots-Tag:noindex
X-PUBLISHED-TTL:PT1H
BEGIN:VTIMEZONE
TZID:Europe/Vienna
BEGIN:DAYLIGHT
TZOFFSETFROM:+0100
TZOFFSETTO:+0200
TZNAME:CEST
DTSTART:20260329T010000
END:DAYLIGHT
BEGIN:STANDARD
TZOFFSETFROM:+0200
TZOFFSETTO:+0100
TZNAME:CET
DTSTART:20261025T010000
END:STANDARD
END:VTIMEZONE
BEGIN:VEVENT
DTSTART;TZID=Europe/Vienna:20260306T210000
DTEND;TZID=Europe/Vienna:20260307T030000
DTSTAMP:20260419T182205
CREATED:20260301T234025Z
LAST-MODIFIED:20260301T234025Z
UID:10000708-1772830800-1772852400@www.crucible.at
SUMMARY:Open House
DESCRIPTION:Kommt und genießt die Gesellschaft und die Räumlichkeiten des CRUCIBLE/Vienna in einem offenen Abend. \n——-EN——- \nCome and enjoy the community and facilities of CRUCIBLE/Vienna for an open evening!
URL:https://www.crucible.at/event/open-house-2026-03-06/
LOCATION:CRUCIBLE/Vienna\, Thalhaimergasse 41\, Wien\, 1160\, Österreich
ATTACH;FMTTYPE=image/png:https://www.crucible.at/wp-content/uploads/2023/07/Open-House-Website.png
END:VEVENT
END:VCALENDAR