BEGIN:VCALENDAR
VERSION:2.0
PRODID:-//CRUCIBLE - ECPv6.1.3//NONSGML v1.0//EN
CALSCALE:GREGORIAN
METHOD:PUBLISH
X-WR-CALNAME:CRUCIBLE
X-ORIGINAL-URL:https://www.crucible.at
X-WR-CALDESC:Veranstaltungen für CRUCIBLE
REFRESH-INTERVAL;VALUE=DURATION:PT1H
X-Robots-Tag:noindex
X-PUBLISHED-TTL:PT1H
BEGIN:VTIMEZONE
TZID:Europe/Vienna
BEGIN:DAYLIGHT
TZOFFSETFROM:+0100
TZOFFSETTO:+0200
TZNAME:CEST
DTSTART:20260329T010000
END:DAYLIGHT
BEGIN:STANDARD
TZOFFSETFROM:+0200
TZOFFSETTO:+0100
TZNAME:CET
DTSTART:20261025T010000
END:STANDARD
END:VTIMEZONE
BEGIN:VEVENT
DTSTART;TZID=Europe/Vienna:20260404T210000
DTEND;TZID=Europe/Vienna:20260405T030000
DTSTAMP:20260420T052525
CREATED:20260224T020024Z
LAST-MODIFIED:20260403T173224Z
UID:10000703-1775336400-1775358000@www.crucible.at
SUMMARY:CRUCIBLE/Easter Party
DESCRIPTION:Der Frühling ist da\, die Tage werden länger und allerlei Kuscheltiere erwachen aus ihrem Winterschlaf!\nWir freuen uns darauf mit euch\, ob als Osterhasy\, in frühlingshaftem weiß und blumig oder in gewohntem kinky schwarz in unseren dekorierten Hallen zu feiern\,
URL:https://www.crucible.at/event/crucible-easter-party-2026-04-04/
LOCATION:CRUCIBLE/Vienna\, Thalhaimergasse 41\, Wien\, 1160\, Österreich
ATTACH;FMTTYPE=image/png:https://www.crucible.at/wp-content/uploads/2024/01/website-easter.png
END:VEVENT
END:VCALENDAR