BEGIN:VCALENDAR
VERSION:2.0
PRODID:-//CRUCIBLE - ECPv6.1.3//NONSGML v1.0//EN
CALSCALE:GREGORIAN
METHOD:PUBLISH
X-ORIGINAL-URL:https://www.crucible.at
X-WR-CALDESC:Veranstaltungen für CRUCIBLE
REFRESH-INTERVAL;VALUE=DURATION:PT1H
X-Robots-Tag:noindex
X-PUBLISHED-TTL:PT1H
BEGIN:VTIMEZONE
TZID:Europe/Vienna
BEGIN:DAYLIGHT
TZOFFSETFROM:+0100
TZOFFSETTO:+0200
TZNAME:CEST
DTSTART:20260329T010000
END:DAYLIGHT
BEGIN:STANDARD
TZOFFSETFROM:+0200
TZOFFSETTO:+0100
TZNAME:CET
DTSTART:20261025T010000
END:STANDARD
END:VTIMEZONE
BEGIN:VEVENT
DTSTART;TZID=Europe/Vienna:20260419T161500
DTEND;TZID=Europe/Vienna:20260419T200000
DTSTAMP:20260421T104807
CREATED:20260331T044336Z
LAST-MODIFIED:20260331T044336Z
UID:10000726-1776615300-1776628800@www.crucible.at
SUMMARY:CRUCIBLE/Playfight
DESCRIPTION:Gemeinsam schaffen wir einen Raum der Begegnung\, einen Safer Space um mit uns selbst und anderen in auf eine Weise in Verbindung zu treten\, die sonst im Alltag schwer möglich ist.\nSpielerisches Raufen\, körperliche (Selbst)Erfahrung und bewusstes Handeln\, Eingehen und Interagieren prägen den Kreis den wir zusammen Bilden.\nOb verspielt\, kompetitiv\, kräftemessend\, animalisch\, meditativ oder kuschelig\, allen Emotionen wird Raum geboten.
URL:https://www.crucible.at/event/crucible-playfight-2026-04-19/
LOCATION:CRUCIBLE/Vienna\, Thalhaimergasse 41\, Wien\, 1160\, Österreich
ATTACH;FMTTYPE=image/png:https://www.crucible.at/wp-content/uploads/2024/10/Playfight-Website.png
END:VEVENT
BEGIN:VEVENT
DTSTART;TZID=Europe/Vienna:20260418T210000
DTEND;TZID=Europe/Vienna:20260419T030000
DTSTAMP:20260421T104808
CREATED:20260331T044244Z
LAST-MODIFIED:20260331T044244Z
UID:10000725-1776546000-1776567600@www.crucible.at
SUMMARY:Rope Night
DESCRIPTION:Ein Abend ganz im Zeichen des Spiels mit Seilen\, bis tief in die Nacht\, zum Austauschen\, finden und erleben in den gewohnt kink- und sex-positiven Räumlichkeiten des CRUCIBLE/Vienna
URL:https://www.crucible.at/event/rope-night-2026-04-18/
LOCATION:CRUCIBLE/Vienna\, Thalhaimergasse 41\, Wien\, 1160\, Österreich
ATTACH;FMTTYPE=image/png:https://www.crucible.at/wp-content/uploads/2024/04/Rope-Night-Website1.png
END:VEVENT
BEGIN:VEVENT
DTSTART;TZID=Europe/Vienna:20260418T140000
DTEND;TZID=Europe/Vienna:20260418T200000
DTSTAMP:20260421T104808
CREATED:20260331T043931Z
LAST-MODIFIED:20260331T044133Z
UID:10000724-1776520800-1776542400@www.crucible.at
SUMMARY:Beginner Shibari Workshop
DESCRIPTION:For Whom?\nThis workshop is designed for complete beginners or those at the early stages of their rope journey.\nIf you want to start your exploration of Shibari or brush up on basic techniques this workshop is for you. \nWhat You Will Learn\nThe focus of this workshop is on connection\, communication\, and safe rope techniques.\nYou’ll explore:\n• Safety & Consent: Learn essential safety rules\, anatomy awareness.\n• Basic Knots & Ties: Simple\, effective techniques to get you started without being overwhelming.\n• Body Awareness & Balance: Understand movement\, positioning\, and body mechanics to tie and be tied comfortably.\n• Leading & Following: Explore how to guide your partner and respond to their cues\, creating a dynamic dialogue through rope.\n• Motivation & Mindset: Discover different intentions behind tying\, and reflect on what Shibari can mean for you and your partner.\n• Fun from the Start: Develop your skills while enjoying the experience\, focusing on creativity and connection. \n 
URL:https://www.crucible.at/event/beginner-shibari-workshop-2026-04-18/
LOCATION:CRUCIBLE/Vienna\, Thalhaimergasse 41\, Wien\, 1160\, Österreich
ATTACH;FMTTYPE=image/png:https://www.crucible.at/wp-content/uploads/2025/10/Giti-Website.png
END:VEVENT
BEGIN:VEVENT
DTSTART;TZID=Europe/Vienna:20260417T210000
DTEND;TZID=Europe/Vienna:20260418T030000
DTSTAMP:20260421T104808
CREATED:20260331T043511Z
LAST-MODIFIED:20260331T043511Z
UID:10000722-1776459600-1776481200@www.crucible.at
SUMMARY:Open House
DESCRIPTION:Kommt und genießt die Gesellschaft und die Räumlichkeiten des CRUCIBLE/Vienna in einem offenen Abend. \n——-EN——- \nCome and enjoy the community and facilities of CRUCIBLE/Vienna for an open evening!
URL:https://www.crucible.at/event/open-house-2026-04-17/
LOCATION:CRUCIBLE/Vienna\, Thalhaimergasse 41\, Wien\, 1160\, Österreich
ATTACH;FMTTYPE=image/png:https://www.crucible.at/wp-content/uploads/2023/07/Open-House-Website.png
END:VEVENT
BEGIN:VEVENT
DTSTART;TZID=Europe/Vienna:20260417T183000
DTEND;TZID=Europe/Vienna:20260417T203000
DTSTAMP:20260421T104808
CREATED:20260331T043806Z
LAST-MODIFIED:20260331T043806Z
UID:10000723-1776450600-1776457800@www.crucible.at
SUMMARY:Kinky-Queer Speed-Dating
DESCRIPTION:Du suchst Gleichgesinnte\, mit denen du deine Kinks\, Ideen und Leidenschaften teilen kannst? Sei es als Freundschaften\, Spielpartnys\, Dates oder Beziehungen?\nBeim Kinky Speed Dating hast du die Chance\, in gewohnter queerer\, sex-positiver und poly-friendly Atmosphäre des CRUCIBLE neue Connections zu finden.
URL:https://www.crucible.at/event/kinky-queer-speed-dating-2026-04-17/
LOCATION:CRUCIBLE/Vienna\, Thalhaimergasse 41\, Wien\, 1160\, Österreich
ATTACH;FMTTYPE=image/png:https://www.crucible.at/wp-content/uploads/2026/01/Speed-Dating-Website.png
END:VEVENT
BEGIN:VEVENT
DTSTART;TZID=Europe/Vienna:20260415T193000
DTEND;TZID=Europe/Vienna:20260415T233000
DTSTAMP:20260421T104808
CREATED:20260331T011825Z
LAST-MODIFIED:20260331T012121Z
UID:10000717-1776281400-1776295800@www.crucible.at
SUMMARY:Rope Jam
DESCRIPTION:Wir laden euch herzlich ein das CRUCIBLE/Vienna als Fesselspielplatz zu nutzen\, euch Auszutauschen und eure Erfahrungen zu teilen! \nEin erfahrenes Fessly wird bei Bedarf ein Beginner’s Corner betreuen und euch die Basics zeigen. \n——-EN——- \nWe warmly invite you to use CRUCIBLE/Vienna as a rope play space\, to connect with others\, and to share your experiences! \nAn experienced rigger will be available to host a Beginner’s Corner if needed and to show you the basics.
URL:https://www.crucible.at/event/rope-jam-2026-04-15/
LOCATION:CRUCIBLE/Vienna\, Thalhaimergasse 41\, Wien\, 1160\, Österreich
ATTACH;FMTTYPE=image/png:https://www.crucible.at/wp-content/uploads/2023/08/Rope-Jam-Website2.png
END:VEVENT
BEGIN:VEVENT
DTSTART;TZID=Europe/Vienna:20260411T110000
DTEND;TZID=Europe/Vienna:20260412T180000
DTSTAMP:20260421T104808
CREATED:20260130T064327Z
LAST-MODIFIED:20260409T140051Z
UID:10000700-1775905200-1776016800@www.crucible.at
SUMMARY:The Art of Worshipping - WORKSHOP
DESCRIPTION:In diesem intensiven Workshop laden wir dich ein\, die faszinierende Verbindung zwischen tantrischer Philosophie und Kink/BDSM (Konkret- Dominanz und Unterwerfung) in einem rituellen Kontext zu erkunden. Durch die Integration von achtsamer\, tiefer Präsenz\, spielerischer Hingabe und der Verehrung als Kunstform schaffen wir gemeinsam einen Raum für tiefgehende Selbsterfahrung und authentische Begegnung. \n  \nVEREHRUNG – das zentrale und verbindende Element dieses Workshops\n  \nVerehrung und Anbetung sind integrale Bestandteile des Tantra und des Bhakti Yoga. In diesen Traditionen wird die Hingabe an das Göttliche als Weg zum spirituellen Erwachen betrachtet.  \nVerehrung und Dienen (Service) ist jedoch auch ein klassisches Spielelement in D/S-Play (Dominance/Submission)\, ein Teilbereich von BDSM und Kink.  \nAn dieser sehr spezifischen Schnittstelle sind der Kreativität keine Grenzen gesetzt – es geht um eine bewusste Fusion und Integration dieser beiden Zugänge. So kann ein einzigartiger\, individueller Ausdruck von Hingabe\, Anbetung\, Respekt und bewusster Dominanz/Submission entstehen\, der sowohl tief spirituell als auch sinnlich erfahrbar ist. \n​ \nDer Fokus dieses Workshops ist die Psychologie und innere Haltung von D/S und Tantra. Skills aus Impact Play\, Humiliation\, Degradation\, Ropes\, Massage\, etc. sind nicht notwendig\, bzw. sind NICHT integraler Bestandteil dieses Workshops.  \n 
URL:https://www.crucible.at/event/the-art-of-worshipping-workshop-2026-04-11/
LOCATION:CRUCIBLE/Vienna\, Thalhaimergasse 41\, Wien\, 1160\, Österreich
ATTACH;FMTTYPE=image/png:https://www.crucible.at/wp-content/uploads/2025/03/ArtOfWorshipping-Website.png
END:VEVENT
BEGIN:VEVENT
DTSTART;TZID=Europe/Vienna:20260410T210000
DTEND;TZID=Europe/Vienna:20260411T030000
DTSTAMP:20260421T104808
CREATED:20260331T043442Z
LAST-MODIFIED:20260331T043442Z
UID:10000721-1775854800-1775876400@www.crucible.at
SUMMARY:Open House
DESCRIPTION:Kommt und genießt die Gesellschaft und die Räumlichkeiten des CRUCIBLE/Vienna in einem offenen Abend. \n——-EN——- \nCome and enjoy the community and facilities of CRUCIBLE/Vienna for an open evening!
URL:https://www.crucible.at/event/open-house-2026-04-10/
LOCATION:CRUCIBLE/Vienna\, Thalhaimergasse 41\, Wien\, 1160\, Österreich
ATTACH;FMTTYPE=image/png:https://www.crucible.at/wp-content/uploads/2023/07/Open-House-Website.png
END:VEVENT
BEGIN:VEVENT
DTSTART;TZID=Europe/Vienna:20260408T193000
DTEND;TZID=Europe/Vienna:20260408T233000
DTSTAMP:20260421T104808
CREATED:20260331T010059Z
LAST-MODIFIED:20260331T010626Z
UID:10000716-1775676600-1775691000@www.crucible.at
SUMMARY:Rope Jam
DESCRIPTION:Wir laden euch herzlich ein das CRUCIBLE/Vienna als Fesselspielplatz zu nutzen\, euch Auszutauschen und eure Erfahrungen zu teilen! \nEin erfahrenes Fessly wird bei Bedarf ein Beginner’s Corner betreuen und euch die Basics zeigen. \n——-EN——- \nWe warmly invite you to use CRUCIBLE/Vienna as a rope play space\, to connect with others\, and to share your experiences! \nAn experienced rigger will be available to host a Beginner’s Corner if needed and to show you the basics.
URL:https://www.crucible.at/event/rope-jam-2026-04-08/
LOCATION:CRUCIBLE/Vienna\, Thalhaimergasse 41\, Wien\, 1160\, Österreich
ATTACH;FMTTYPE=image/png:https://www.crucible.at/wp-content/uploads/2023/08/Rope-Jam-Website2.png
END:VEVENT
BEGIN:VEVENT
DTSTART;TZID=Europe/Vienna:20260404T210000
DTEND;TZID=Europe/Vienna:20260405T030000
DTSTAMP:20260421T104808
CREATED:20260224T020024Z
LAST-MODIFIED:20260403T173224Z
UID:10000703-1775336400-1775358000@www.crucible.at
SUMMARY:CRUCIBLE/Easter Party
DESCRIPTION:Der Frühling ist da\, die Tage werden länger und allerlei Kuscheltiere erwachen aus ihrem Winterschlaf!\nWir freuen uns darauf mit euch\, ob als Osterhasy\, in frühlingshaftem weiß und blumig oder in gewohntem kinky schwarz in unseren dekorierten Hallen zu feiern\,
URL:https://www.crucible.at/event/crucible-easter-party-2026-04-04/
LOCATION:CRUCIBLE/Vienna\, Thalhaimergasse 41\, Wien\, 1160\, Österreich
ATTACH;FMTTYPE=image/png:https://www.crucible.at/wp-content/uploads/2024/01/website-easter.png
END:VEVENT
BEGIN:VEVENT
DTSTART;TZID=Europe/Vienna:20260403T210000
DTEND;TZID=Europe/Vienna:20260404T030000
DTSTAMP:20260421T104808
CREATED:20260331T043305Z
LAST-MODIFIED:20260331T043305Z
UID:10000720-1775250000-1775271600@www.crucible.at
SUMMARY:Open House
DESCRIPTION:Kommt und genießt die Gesellschaft und die Räumlichkeiten des CRUCIBLE/Vienna in einem offenen Abend. \n——-EN——- \nCome and enjoy the community and facilities of CRUCIBLE/Vienna for an open evening!
URL:https://www.crucible.at/event/open-house-2026-04-03/
LOCATION:CRUCIBLE/Vienna\, Thalhaimergasse 41\, Wien\, 1160\, Österreich
ATTACH;FMTTYPE=image/png:https://www.crucible.at/wp-content/uploads/2023/07/Open-House-Website.png
END:VEVENT
BEGIN:VEVENT
DTSTART;TZID=Europe/Vienna:20260401T193000
DTEND;TZID=Europe/Vienna:20260401T233000
DTSTAMP:20260421T104808
CREATED:20260331T005459Z
LAST-MODIFIED:20260331T005540Z
UID:10000715-1775071800-1775086200@www.crucible.at
SUMMARY:Rope Jam
DESCRIPTION:Wir laden euch herzlich ein das CRUCIBLE/Vienna als Fesselspielplatz zu nutzen\, euch Auszutauschen und eure Erfahrungen zu teilen! \nEin erfahrenes Fessly wird bei Bedarf ein Beginner’s Corner betreuen und euch die Basics zeigen. \n——-EN——- \nWe warmly invite you to use CRUCIBLE/Vienna as a rope play space\, to connect with others\, and to share your experiences! \nAn experienced rigger will be available to host a Beginner’s Corner if needed and to show you the basics.
URL:https://www.crucible.at/event/rope-jam-2026-04-01/
LOCATION:CRUCIBLE/Vienna\, Thalhaimergasse 41\, Wien\, 1160\, Österreich
ATTACH;FMTTYPE=image/png:https://www.crucible.at/wp-content/uploads/2023/08/Rope-Jam-Website2.png
END:VEVENT
BEGIN:VEVENT
DTSTART;TZID=Europe/Vienna:20260328T210000
DTEND;TZID=Europe/Vienna:20260329T030000
DTSTAMP:20260421T104808
CREATED:20260301T234058Z
LAST-MODIFIED:20260301T234236Z
UID:10000710-1774731600-1774753200@www.crucible.at
SUMMARY:Open House
DESCRIPTION:Kommt und genießt die Gesellschaft und die Räumlichkeiten des CRUCIBLE/Vienna in einem offenen Abend. \n——-EN——- \nCome and enjoy the community and facilities of CRUCIBLE/Vienna for an open evening!
URL:https://www.crucible.at/event/open-house-2026-03-28/
LOCATION:CRUCIBLE/Vienna\, Thalhaimergasse 41\, Wien\, 1160\, Österreich
ATTACH;FMTTYPE=image/png:https://www.crucible.at/wp-content/uploads/2023/07/Open-House-Website.png
END:VEVENT
BEGIN:VEVENT
DTSTART;TZID=Europe/Vienna:20260328T110000
DTEND;TZID=Europe/Vienna:20260329T190000
DTSTAMP:20260421T104808
CREATED:20260130T053448Z
LAST-MODIFIED:20260130T064047Z
UID:10000698-1774695600-1774810800@www.crucible.at
SUMMARY:Pain Processing EXPLORATION Workshop - (ENGLISH)
DESCRIPTION:What if pain was just information/ source of energy…?  \nWhat if you could move it through your body and transform it into ecstatic power? \nWhat if you could consciously choose your response and use it to experience depth and intensity\, and perceive your body in a new way? \nPain processing in a safe\, conscious\, loving\, and consensual setting can be an exciting tool for: \n\n\nexperiencing yourself more deeply         \n\n\nembodying and perceiving inner strength  \n\n\nexploring your limits at different levels  \n\n\ngetting “high” on your body’s own drugs  \n\n\ncreating ecstatic-\, trance- or transcendent states   \n\n\nperceive the power of devotion/ surrender  \n\n\naccess and express suppressed emotions \n\n\n\n  \n​
URL:https://www.crucible.at/event/pain-processing-exploration-workshop-2026-03-28/
LOCATION:CRUCIBLE/Vienna\, Thalhaimergasse 41\, Wien\, 1160\, Österreich
ATTACH;FMTTYPE=image/png:https://www.crucible.at/wp-content/uploads/2026/01/Pain-Processing-v2-Website.png
END:VEVENT
BEGIN:VEVENT
DTSTART;TZID=Europe/Vienna:20260327T210000
DTEND;TZID=Europe/Vienna:20260328T030000
DTSTAMP:20260421T104808
CREATED:20260301T234819Z
LAST-MODIFIED:20260301T234819Z
UID:10000712-1774645200-1774666800@www.crucible.at
SUMMARY:Kink-Night
DESCRIPTION:Bei einfachem Dresscode feiern wir unsere kinky Seite: unsere Austattung\,  Suspension-Rig und eine Auswahl an Leihspielzeug erwarten euch! \n——-EN——- \nWith a simple dress code\, we celebrate our kinky side: our equipment\, suspension rig and a selection of loaner toys await you!
URL:https://www.crucible.at/event/kink-night-2026-03-27/
LOCATION:CRUCIBLE/Vienna\, Thalhaimergasse 41\, Wien\, 1160\, Österreich
ATTACH;FMTTYPE=image/png:https://www.crucible.at/wp-content/uploads/2023/08/Kink-Night-Website1.png
END:VEVENT
BEGIN:VEVENT
DTSTART;TZID=Europe/Vienna:20260325T193000
DTEND;TZID=Europe/Vienna:20260325T233000
DTSTAMP:20260421T104808
CREATED:20260301T233500Z
LAST-MODIFIED:20260301T233500Z
UID:10000705-1774467000-1774481400@www.crucible.at
SUMMARY:Rope Jam
DESCRIPTION:Wir laden euch herzlich ein das CRUCIBLE/Vienna als Fesselspielplatz zu nutzen\, euch Auszutauschen und eure Erfahrungen zu teilen! \nEin erfahrenes Fessly wird bei Bedarf ein Beginner’s Corner betreuen und euch die Basics zeigen. \n——-EN——- \nWe warmly invite you to use CRUCIBLE/Vienna as a rope play space\, to connect with others\, and to share your experiences! \nAn experienced rigger will be available to host a Beginner’s Corner if needed and to show you the basics.
URL:https://www.crucible.at/event/rope-jam-2026-03-25/
LOCATION:CRUCIBLE/Vienna\, Thalhaimergasse 41\, Wien\, 1160\, Österreich
ATTACH;FMTTYPE=image/png:https://www.crucible.at/wp-content/uploads/2023/08/Rope-Jam-Website2.png
END:VEVENT
BEGIN:VEVENT
DTSTART;TZID=Europe/Vienna:20260321T210000
DTEND;TZID=Europe/Vienna:20260322T030000
DTSTAMP:20260421T104808
CREATED:20260301T234653Z
LAST-MODIFIED:20260301T234653Z
UID:10000711-1774126800-1774148400@www.crucible.at
SUMMARY:Rope Night
DESCRIPTION:Ein Abend ganz im Zeichen des Spiels mit Seilen\, bis tief in die Nacht\, zum Austauschen\, finden und erleben in den gewohnt kink- und sex-positiven Räumlichkeiten des CRUCIBLE/Vienna
URL:https://www.crucible.at/event/rope-night-2026-03-21/
LOCATION:CRUCIBLE/Vienna\, Thalhaimergasse 41\, Wien\, 1160\, Österreich
ATTACH;FMTTYPE=image/png:https://www.crucible.at/wp-content/uploads/2024/04/Rope-Night-Website1.png
END:VEVENT
BEGIN:VEVENT
DTSTART;TZID=Europe/Vienna:20260320T210000
DTEND;TZID=Europe/Vienna:20260321T030000
DTSTAMP:20260421T104808
CREATED:20260301T234044Z
LAST-MODIFIED:20260301T234044Z
UID:10000709-1774040400-1774062000@www.crucible.at
SUMMARY:Open House
DESCRIPTION:Kommt und genießt die Gesellschaft und die Räumlichkeiten des CRUCIBLE/Vienna in einem offenen Abend. \n——-EN——- \nCome and enjoy the community and facilities of CRUCIBLE/Vienna for an open evening!
URL:https://www.crucible.at/event/open-house-2026-03-20/
LOCATION:CRUCIBLE/Vienna\, Thalhaimergasse 41\, Wien\, 1160\, Österreich
ATTACH;FMTTYPE=image/png:https://www.crucible.at/wp-content/uploads/2023/07/Open-House-Website.png
END:VEVENT
BEGIN:VEVENT
DTSTART;TZID=Europe/Vienna:20260318T193000
DTEND;TZID=Europe/Vienna:20260318T233000
DTSTAMP:20260421T104808
CREATED:20260301T233447Z
LAST-MODIFIED:20260301T233447Z
UID:10000706-1773862200-1773876600@www.crucible.at
SUMMARY:Rope Jam
DESCRIPTION:Wir laden euch herzlich ein das CRUCIBLE/Vienna als Fesselspielplatz zu nutzen\, euch Auszutauschen und eure Erfahrungen zu teilen! \nEin erfahrenes Fessly wird bei Bedarf ein Beginner’s Corner betreuen und euch die Basics zeigen. \n——-EN——- \nWe warmly invite you to use CRUCIBLE/Vienna as a rope play space\, to connect with others\, and to share your experiences! \nAn experienced rigger will be available to host a Beginner’s Corner if needed and to show you the basics.
URL:https://www.crucible.at/event/rope-jam-2026-03-18/
LOCATION:CRUCIBLE/Vienna\, Thalhaimergasse 41\, Wien\, 1160\, Österreich
ATTACH;FMTTYPE=image/png:https://www.crucible.at/wp-content/uploads/2023/08/Rope-Jam-Website2.png
END:VEVENT
BEGIN:VEVENT
DTSTART;TZID=Europe/Vienna:20260314T180000
DTEND;TZID=Europe/Vienna:20260315T020000
DTSTAMP:20260421T104808
CREATED:20260302T001541Z
LAST-MODIFIED:20260313T130031Z
UID:10000714-1773511200-1773540000@www.crucible.at
SUMMARY:Bound by Love III - Vernissage [UPDATED SCHEDULE]
DESCRIPTION:„BOUND by Love“ is an evocative rope art project and exhibition brought to life by a dedicated group of queer\, bi and lesbian women. The project aims to increase visibility for queer-feminine love & creativity in BDSM\, especially bondage practices and to support queer-feminist associations in Austria. \n​ \nOur first exhibition in 2023 generated 1700 Euro of proceeds which were donated to the association „Queer Base – Welcome and Support for LGBTIQ Refugees“. The organization was founded in 2015\, is based in Vienna and supports LGBTIQ people who applied for asylum as a „member of a social group“ due to homophobic or transphobic persecution.  \n​ \nOur second exhibition in 2026 will be dedicated to support CRUCIBLE – a queer-feminist\, kink- and sex-positive association and community that is irreplaceable in the viennese queer BDSM scene. 
URL:https://www.crucible.at/event/bound-by-love-vernissage-2026-03-14/
LOCATION:CRUCIBLE/Vienna\, Thalhaimergasse 41\, Wien\, 1160\, Österreich
ATTACH;FMTTYPE=image/png:https://www.crucible.at/wp-content/uploads/2026/03/Screenshot-2026-03-02-at-00-55-31-Instagram.png
END:VEVENT
BEGIN:VEVENT
DTSTART;TZID=Europe/Vienna:20260313T173000
DTEND;TZID=Europe/Vienna:20260313T200000
DTSTAMP:20260421T104808
CREATED:20260130T055607Z
LAST-MODIFIED:20260303T131147Z
UID:10000699-1773423000-1773432000@www.crucible.at
SUMMARY:Clothing Swap / Kleidertausch
DESCRIPTION:It‘s time for a Clothing Swap! Refresh your wardrobe the sustainable way and discover new favorite pieces! Bring your items and browse through treasures from others. And the best: your items and the items you might find can also be sexy or kinky! \nEnjoy great fashion finds\, drinks from the bar\, and a good atmosphere. Together\, we make fashion more sustainable—swap\, don’t shop! ♻️
URL:https://www.crucible.at/event/clothing-swap-kleidertausch-2026-03-13/
LOCATION:CRUCIBLE/Vienna\, Thalhaimergasse 41\, Wien\, 1160\, Österreich
ATTACH;FMTTYPE=image/png:https://www.crucible.at/wp-content/uploads/2025/01/Clothing-Swap-Website.png
END:VEVENT
BEGIN:VEVENT
DTSTART;TZID=Europe/Vienna:20260311T193000
DTEND;TZID=Europe/Vienna:20260311T233000
DTSTAMP:20260421T104808
CREATED:20260301T233428Z
LAST-MODIFIED:20260301T233428Z
UID:10000707-1773257400-1773271800@www.crucible.at
SUMMARY:Rope Jam
DESCRIPTION:Wir laden euch herzlich ein das CRUCIBLE/Vienna als Fesselspielplatz zu nutzen\, euch Auszutauschen und eure Erfahrungen zu teilen! \nEin erfahrenes Fessly wird bei Bedarf ein Beginner’s Corner betreuen und euch die Basics zeigen. \n——-EN——- \nWe warmly invite you to use CRUCIBLE/Vienna as a rope play space\, to connect with others\, and to share your experiences! \nAn experienced rigger will be available to host a Beginner’s Corner if needed and to show you the basics.
URL:https://www.crucible.at/event/rope-jam-2026-03-11/
LOCATION:CRUCIBLE/Vienna\, Thalhaimergasse 41\, Wien\, 1160\, Österreich
ATTACH;FMTTYPE=image/png:https://www.crucible.at/wp-content/uploads/2023/08/Rope-Jam-Website2.png
END:VEVENT
BEGIN:VEVENT
DTSTART;TZID=Europe/Vienna:20260307T210000
DTEND;TZID=Europe/Vienna:20260308T030000
DTSTAMP:20260421T104808
CREATED:20260301T234749Z
LAST-MODIFIED:20260301T234847Z
UID:10000713-1772917200-1772938800@www.crucible.at
SUMMARY:Kink-Night
DESCRIPTION:Bei einfachem Dresscode feiern wir unsere kinky Seite: unsere Austattung\,  Suspension-Rig und eine Auswahl an Leihspielzeug erwarten euch! \n——-EN——- \nWith a simple dress code\, we celebrate our kinky side: our equipment\, suspension rig and a selection of loaner toys await you!
URL:https://www.crucible.at/event/kink-night-2026-03-07/
LOCATION:CRUCIBLE/Vienna\, Thalhaimergasse 41\, Wien\, 1160\, Österreich
ATTACH;FMTTYPE=image/png:https://www.crucible.at/wp-content/uploads/2023/08/Kink-Night-Website1.png
END:VEVENT
BEGIN:VEVENT
DTSTART;TZID=Europe/Vienna:20260306T210000
DTEND;TZID=Europe/Vienna:20260307T030000
DTSTAMP:20260421T104808
CREATED:20260301T234025Z
LAST-MODIFIED:20260301T234025Z
UID:10000708-1772830800-1772852400@www.crucible.at
SUMMARY:Open House
DESCRIPTION:Kommt und genießt die Gesellschaft und die Räumlichkeiten des CRUCIBLE/Vienna in einem offenen Abend. \n——-EN——- \nCome and enjoy the community and facilities of CRUCIBLE/Vienna for an open evening!
URL:https://www.crucible.at/event/open-house-2026-03-06/
LOCATION:CRUCIBLE/Vienna\, Thalhaimergasse 41\, Wien\, 1160\, Österreich
ATTACH;FMTTYPE=image/png:https://www.crucible.at/wp-content/uploads/2023/07/Open-House-Website.png
END:VEVENT
BEGIN:VEVENT
DTSTART;TZID=Europe/Vienna:20260304T193000
DTEND;TZID=Europe/Vienna:20260304T233000
DTSTAMP:20260421T104808
CREATED:20260301T233413Z
LAST-MODIFIED:20260301T233413Z
UID:10000704-1772652600-1772667000@www.crucible.at
SUMMARY:Rope Jam
DESCRIPTION:Wir laden euch herzlich ein das CRUCIBLE/Vienna als Fesselspielplatz zu nutzen\, euch Auszutauschen und eure Erfahrungen zu teilen! \nEin erfahrenes Fessly wird bei Bedarf ein Beginner’s Corner betreuen und euch die Basics zeigen. \n——-EN——- \nWe warmly invite you to use CRUCIBLE/Vienna as a rope play space\, to connect with others\, and to share your experiences! \nAn experienced rigger will be available to host a Beginner’s Corner if needed and to show you the basics.
URL:https://www.crucible.at/event/rope-jam-2026-03-04/
LOCATION:CRUCIBLE/Vienna\, Thalhaimergasse 41\, Wien\, 1160\, Österreich
ATTACH;FMTTYPE=image/png:https://www.crucible.at/wp-content/uploads/2023/08/Rope-Jam-Website2.png
END:VEVENT
BEGIN:VEVENT
DTSTART;TZID=Europe/Vienna:20260227T210000
DTEND;TZID=Europe/Vienna:20260228T030000
DTSTAMP:20260421T104808
CREATED:20260130T022839Z
LAST-MODIFIED:20260130T023007Z
UID:10000690-1772226000-1772247600@www.crucible.at
SUMMARY:Open House
DESCRIPTION:Kommt und genießt die Gesellschaft und die Räumlichkeiten des CRUCIBLE/Vienna in einem offenen Abend. \n——-EN——- \nCome and enjoy the community and facilities of CRUCIBLE/Vienna for an open evening!
URL:https://www.crucible.at/event/open-house-2026-02-27/
LOCATION:CRUCIBLE/Vienna\, Thalhaimergasse 41\, Wien\, 1160\, Österreich
ATTACH;FMTTYPE=image/png:https://www.crucible.at/wp-content/uploads/2023/07/Open-House-Website.png
END:VEVENT
BEGIN:VEVENT
DTSTART;TZID=Europe/Vienna:20260225T193000
DTEND;TZID=Europe/Vienna:20260225T233000
DTSTAMP:20260421T104808
CREATED:20260130T020034Z
LAST-MODIFIED:20260130T020034Z
UID:10000687-1772047800-1772062200@www.crucible.at
SUMMARY:Rope Jam
DESCRIPTION:Wir laden euch herzlich ein das CRUCIBLE/Vienna als Fesselspielplatz zu nutzen\, euch Auszutauschen und eure Erfahrungen zu teilen! \nEin erfahrenes Fessly wird bei Bedarf ein Beginner’s Corner betreuen und euch die Basics zeigen. \n——-EN——- \nWe warmly invite you to use CRUCIBLE/Vienna as a rope play space\, to connect with others\, and to share your experiences! \nAn experienced rigger will be available to host a Beginner’s Corner if needed and to show you the basics.
URL:https://www.crucible.at/event/rope-jam-2026-02-25/
LOCATION:CRUCIBLE/Vienna\, Thalhaimergasse 41\, Wien\, 1160\, Österreich
ATTACH;FMTTYPE=image/png:https://www.crucible.at/wp-content/uploads/2023/08/Rope-Jam-Website2.png
END:VEVENT
BEGIN:VEVENT
DTSTART;TZID=Europe/Vienna:20260220T210000
DTEND;TZID=Europe/Vienna:20260221T030000
DTSTAMP:20260421T104808
CREATED:20260130T023031Z
LAST-MODIFIED:20260130T023031Z
UID:10000691-1771621200-1771642800@www.crucible.at
SUMMARY:Open House
DESCRIPTION:Kommt und genießt die Gesellschaft und die Räumlichkeiten des CRUCIBLE/Vienna in einem offenen Abend. \n——-EN——- \nCome and enjoy the community and facilities of CRUCIBLE/Vienna for an open evening!
URL:https://www.crucible.at/event/open-house-2026-02-20/
LOCATION:CRUCIBLE/Vienna\, Thalhaimergasse 41\, Wien\, 1160\, Österreich
ATTACH;FMTTYPE=image/png:https://www.crucible.at/wp-content/uploads/2023/07/Open-House-Website.png
END:VEVENT
BEGIN:VEVENT
DTSTART;TZID=Europe/Vienna:20260218T193000
DTEND;TZID=Europe/Vienna:20260218T233000
DTSTAMP:20260421T104808
CREATED:20260130T020354Z
LAST-MODIFIED:20260130T020354Z
UID:10000688-1771443000-1771457400@www.crucible.at
SUMMARY:Rope Jam
DESCRIPTION:Wir laden euch herzlich ein das CRUCIBLE/Vienna als Fesselspielplatz zu nutzen\, euch Auszutauschen und eure Erfahrungen zu teilen! \nEin erfahrenes Fessly wird bei Bedarf ein Beginner’s Corner betreuen und euch die Basics zeigen. \n——-EN——- \nWe warmly invite you to use CRUCIBLE/Vienna as a rope play space\, to connect with others\, and to share your experiences! \nAn experienced rigger will be available to host a Beginner’s Corner if needed and to show you the basics.
URL:https://www.crucible.at/event/rope-jam-2026-02-18/
LOCATION:CRUCIBLE/Vienna\, Thalhaimergasse 41\, Wien\, 1160\, Österreich
ATTACH;FMTTYPE=image/png:https://www.crucible.at/wp-content/uploads/2023/08/Rope-Jam-Website2.png
END:VEVENT
BEGIN:VEVENT
DTSTART;TZID=Europe/Vienna:20260214T210000
DTEND;TZID=Europe/Vienna:20260215T030000
DTSTAMP:20260421T104808
CREATED:20260130T040924Z
LAST-MODIFIED:20260130T040924Z
UID:10000694-1771102800-1771124400@www.crucible.at
SUMMARY:D/secration - A Dark Valentine
DESCRIPTION:Das CRUCIBLE/Vienna feiert den Jahrestag ihres ersten Events und wer uns schon besucht hat\, weiß warum es eine Entweihungsparty anstatt einer Einweihung war.\nZelebriert mit uns eine Feier in rot und pink\, schwarz und weiß wenn es heisst: ….be my dark valentine
URL:https://www.crucible.at/event/valentine-2026-02-14/
LOCATION:CRUCIBLE/Vienna\, Thalhaimergasse 41\, Wien\, 1160\, Österreich
ATTACH;FMTTYPE=image/png:https://www.crucible.at/wp-content/uploads/2024/01/website-DarkV.png
END:VEVENT
END:VCALENDAR