BEGIN:VCALENDAR
VERSION:2.0
PRODID:-//CRUCIBLE - ECPv6.1.3//NONSGML v1.0//EN
CALSCALE:GREGORIAN
METHOD:PUBLISH
X-ORIGINAL-URL:https://www.crucible.at
X-WR-CALDESC:Veranstaltungen für CRUCIBLE
REFRESH-INTERVAL;VALUE=DURATION:PT1H
X-Robots-Tag:noindex
X-PUBLISHED-TTL:PT1H
BEGIN:VTIMEZONE
TZID:Europe/Vienna
BEGIN:DAYLIGHT
TZOFFSETFROM:+0100
TZOFFSETTO:+0200
TZNAME:CEST
DTSTART:20240331T010000
END:DAYLIGHT
BEGIN:STANDARD
TZOFFSETFROM:+0200
TZOFFSETTO:+0100
TZNAME:CET
DTSTART:20241027T010000
END:STANDARD
END:VTIMEZONE
BEGIN:VEVENT
DTSTART;TZID=Europe/Vienna:20240907T210000
DTEND;TZID=Europe/Vienna:20240908T030000
DTSTAMP:20260424T191051
CREATED:20240816T044124Z
LAST-MODIFIED:20240816T044124Z
UID:10000467-1725742800-1725764400@www.crucible.at
SUMMARY:Kink-Night
DESCRIPTION:Bei einfachem Dresscode feiern wir unsere kinky Seite: unser Suspension-Rig und eine Auswahl an Leihspielzeug erwarten euch!
URL:https://www.crucible.at/event/kink-night-2024-09-07/
LOCATION:CRUCIBLE/Vienna\, Thalhaimergasse 41\, Wien\, 1160\, Österreich
ATTACH;FMTTYPE=image/png:https://www.crucible.at/wp-content/uploads/2023/08/Kink-Night-Website1.png
END:VEVENT
BEGIN:VEVENT
DTSTART;TZID=Europe/Vienna:20240920T210000
DTEND;TZID=Europe/Vienna:20240921T030000
DTSTAMP:20260424T191051
CREATED:20240816T044834Z
LAST-MODIFIED:20240816T044834Z
UID:10000469-1726866000-1726887600@www.crucible.at
SUMMARY:Rope Night
DESCRIPTION:Ein Abend ganz im Zeichen des Spiels mit Seilen\, bis tief in die Nacht\, zum Austauschen\, finden und erleben in den gewohnt kink- und sex-positiven Räumlichkeiten des CRUCIBLE/Vienna
URL:https://www.crucible.at/event/rope-night-2024-09-20/
LOCATION:CRUCIBLE/Vienna\, Thalhaimergasse 41\, Wien\, 1160\, Österreich
ATTACH;FMTTYPE=image/png:https://www.crucible.at/wp-content/uploads/2024/04/Rope-Night-Website1.png
END:VEVENT
BEGIN:VEVENT
DTSTART;TZID=Europe/Vienna:20240927T210000
DTEND;TZID=Europe/Vienna:20240928T030000
DTSTAMP:20260424T191051
CREATED:20240816T044217Z
LAST-MODIFIED:20240924T042355Z
UID:10000468-1727470800-1727492400@www.crucible.at
SUMMARY:Kink-Night
DESCRIPTION:Bei einfachem Dresscode feiern wir unsere kinky Seite: unser Suspension-Rig und eine Auswahl an Leihspielzeug erwarten euch!
URL:https://www.crucible.at/event/kink-night-2024-09-27/
LOCATION:CRUCIBLE/Vienna\, Thalhaimergasse 41\, Wien\, 1160\, Österreich
ATTACH;FMTTYPE=image/png:https://www.crucible.at/wp-content/uploads/2023/08/Kink-Night-Website1.png
END:VEVENT
BEGIN:VEVENT
DTSTART;TZID=Europe/Vienna:20240928T173000
DTEND;TZID=Europe/Vienna:20240928T203000
DTSTAMP:20260424T191051
CREATED:20240628T150549Z
LAST-MODIFIED:20240913T054018Z
UID:10000453-1727544600-1727555400@www.crucible.at
SUMMARY:Kinky Live Drawing
DESCRIPTION:Wir laden euch dazu ein euren kinky Ausdruck mit dem künstlerischen zu verbinden. \nIn diesem Workshop werden wir uns in kleine Gruppen aufteilen um Szenen der Dominanz & Submission\, kinky Posen oder Outfits einzufangen.\nOb Bondage\, D/S Dynamik\, Latex oder in vollen Fursuits\, alles ist willkommen.
URL:https://www.crucible.at/event/kinky-live-drawing-2024-09-28/
LOCATION:CRUCIBLE/Vienna\, Thalhaimergasse 41\, Wien\, 1160\, Österreich
ATTACH;FMTTYPE=image/png:https://www.crucible.at/wp-content/uploads/2024/06/LiveDrawing-Website.png
END:VEVENT
END:VCALENDAR