BEGIN:VCALENDAR
VERSION:2.0
PRODID:-//CRUCIBLE - ECPv6.1.3//NONSGML v1.0//EN
CALSCALE:GREGORIAN
METHOD:PUBLISH
X-WR-CALNAME:CRUCIBLE
X-ORIGINAL-URL:https://www.crucible.at
X-WR-CALDESC:Veranstaltungen für CRUCIBLE
REFRESH-INTERVAL;VALUE=DURATION:PT1H
X-Robots-Tag:noindex
X-PUBLISHED-TTL:PT1H
BEGIN:VTIMEZONE
TZID:Europe/Vienna
BEGIN:DAYLIGHT
TZOFFSETFROM:+0100
TZOFFSETTO:+0200
TZNAME:CEST
DTSTART:20240331T010000
END:DAYLIGHT
BEGIN:STANDARD
TZOFFSETFROM:+0200
TZOFFSETTO:+0100
TZNAME:CET
DTSTART:20241027T010000
END:STANDARD
END:VTIMEZONE
BEGIN:VEVENT
DTSTART;TZID=Europe/Vienna:20241005T210000
DTEND;TZID=Europe/Vienna:20241006T030000
DTSTAMP:20260424T174617
CREATED:20240924T042443Z
LAST-MODIFIED:20240924T042503Z
UID:10000481-1728162000-1728183600@www.crucible.at
SUMMARY:Kink-Night
DESCRIPTION:Bei einfachem Dresscode feiern wir unsere kinky Seite: unser Suspension-Rig und eine Auswahl an Leihspielzeug erwarten euch!
URL:https://www.crucible.at/event/kink-night-2024-10-05/
LOCATION:CRUCIBLE/Vienna\, Thalhaimergasse 41\, Wien\, 1160\, Österreich
ATTACH;FMTTYPE=image/png:https://www.crucible.at/wp-content/uploads/2023/08/Kink-Night-Website1.png
END:VEVENT
BEGIN:VEVENT
DTSTART;TZID=Europe/Vienna:20241025T210000
DTEND;TZID=Europe/Vienna:20241026T030000
DTSTAMP:20260424T174617
CREATED:20240924T042702Z
LAST-MODIFIED:20240924T042946Z
UID:10000483-1729890000-1729911600@www.crucible.at
SUMMARY:Rope Night
DESCRIPTION:Ein Abend ganz im Zeichen des Spiels mit Seilen\, bis tief in die Nacht\, zum Austauschen\, finden und erleben in den gewohnt kink- und sex-positiven Räumlichkeiten des CRUCIBLE/Vienna
URL:https://www.crucible.at/event/rope-night-2024-10-25/
LOCATION:CRUCIBLE/Vienna\, Thalhaimergasse 41\, Wien\, 1160\, Österreich
ATTACH;FMTTYPE=image/png:https://www.crucible.at/wp-content/uploads/2024/04/Rope-Night-Website1.png
END:VEVENT
BEGIN:VEVENT
DTSTART;TZID=Europe/Vienna:20241026T210000
DTEND;TZID=Europe/Vienna:20241027T030000
DTSTAMP:20260424T174617
CREATED:20240924T042538Z
LAST-MODIFIED:20241028T234843Z
UID:10000482-1729976400-1729998000@www.crucible.at
SUMMARY:Kink-Night
DESCRIPTION:Bei einfachem Dresscode feiern wir unsere kinky Seite: unser Suspension-Rig und eine Auswahl an Leihspielzeug erwarten euch!
URL:https://www.crucible.at/event/kink-night-2024-10-26/
LOCATION:CRUCIBLE/Vienna\, Thalhaimergasse 41\, Wien\, 1160\, Österreich
ATTACH;FMTTYPE=image/png:https://www.crucible.at/wp-content/uploads/2023/08/Kink-Night-Website1.png
END:VEVENT
BEGIN:VEVENT
DTSTART;TZID=Europe/Vienna:20241031T210000
DTEND;TZID=Europe/Vienna:20241101T040000
DTSTAMP:20260424T174617
CREATED:20240723T132145Z
LAST-MODIFIED:20241011T044245Z
UID:10000459-1730408400-1730433600@www.crucible.at
SUMMARY:CRUCIBLE/Halloween
DESCRIPTION:Wir laden euch herzlich ein zu unserer Halloween-Feier im CRUCIBLE/Vienna! \nZu dieser ganz besonderen Nacht verwandeln sich unsere Räumlichkeiten ein facettenreiches Kabinett des Schreckens\, reich an Tim Burtonesquen Charme! \nTretet ein ihr Kreaturen der Nacht\, Monster unterm Bett\, Adeligen der Finsterniss\, sterbliche Artisten des Blutes\, Seelenlose Untote oder auch unschuldige\, verirrte Menschys die den Weg in unsere kinky Hallen gefunden haben!
URL:https://www.crucible.at/event/halloween-2024-10-31/
LOCATION:CRUCIBLE/Vienna\, Thalhaimergasse 41\, Wien\, 1160\, Österreich
ATTACH;FMTTYPE=image/png:https://www.crucible.at/wp-content/uploads/2024/07/Copy-of-Halloween-Website.png
END:VEVENT
END:VCALENDAR