BEGIN:VCALENDAR
VERSION:2.0
PRODID:-//CRUCIBLE - ECPv6.1.3//NONSGML v1.0//EN
CALSCALE:GREGORIAN
METHOD:PUBLISH
X-ORIGINAL-URL:https://www.crucible.at
X-WR-CALDESC:Veranstaltungen für CRUCIBLE
REFRESH-INTERVAL;VALUE=DURATION:PT1H
X-Robots-Tag:noindex
X-PUBLISHED-TTL:PT1H
BEGIN:VTIMEZONE
TZID:Europe/Vienna
BEGIN:DAYLIGHT
TZOFFSETFROM:+0100
TZOFFSETTO:+0200
TZNAME:CEST
DTSTART:20240331T010000
END:DAYLIGHT
BEGIN:STANDARD
TZOFFSETFROM:+0200
TZOFFSETTO:+0100
TZNAME:CET
DTSTART:20241027T010000
END:STANDARD
END:VTIMEZONE
BEGIN:VEVENT
DTSTART;TZID=Europe/Vienna:20241115T210000
DTEND;TZID=Europe/Vienna:20241116T030000
DTSTAMP:20260424T161059
CREATED:20241028T234803Z
LAST-MODIFIED:20241028T234845Z
UID:10000494-1731704400-1731726000@www.crucible.at
SUMMARY:Kink-Night
DESCRIPTION:Bei einfachem Dresscode feiern wir unsere kinky Seite: unser Suspension-Rig und eine Auswahl an Leihspielzeug erwarten euch!
URL:https://www.crucible.at/event/kink-night-2024-11-15/
LOCATION:CRUCIBLE/Vienna\, Thalhaimergasse 41\, Wien\, 1160\, Österreich
ATTACH;FMTTYPE=image/png:https://www.crucible.at/wp-content/uploads/2023/08/Kink-Night-Website1.png
END:VEVENT
BEGIN:VEVENT
DTSTART;TZID=Europe/Vienna:20241122T210000
DTEND;TZID=Europe/Vienna:20241123T030000
DTSTAMP:20260424T161059
CREATED:20241028T234826Z
LAST-MODIFIED:20241127T154219Z
UID:10000495-1732309200-1732330800@www.crucible.at
SUMMARY:Kink-Night
DESCRIPTION:Bei einfachem Dresscode feiern wir unsere kinky Seite: unser Suspension-Rig und eine Auswahl an Leihspielzeug erwarten euch!
URL:https://www.crucible.at/event/kink-night-2024-11-22/
LOCATION:CRUCIBLE/Vienna\, Thalhaimergasse 41\, Wien\, 1160\, Österreich
ATTACH;FMTTYPE=image/png:https://www.crucible.at/wp-content/uploads/2023/08/Kink-Night-Website1.png
END:VEVENT
BEGIN:VEVENT
DTSTART;TZID=Europe/Vienna:20241129T210000
DTEND;TZID=Europe/Vienna:20241130T030000
DTSTAMP:20260424T161059
CREATED:20241029T002247Z
LAST-MODIFIED:20241029T002247Z
UID:10000499-1732914000-1732935600@www.crucible.at
SUMMARY:Rope Night
DESCRIPTION:Ein Abend ganz im Zeichen des Spiels mit Seilen\, bis tief in die Nacht\, zum Austauschen\, finden und erleben in den gewohnt kink- und sex-positiven Räumlichkeiten des CRUCIBLE/Vienna
URL:https://www.crucible.at/event/rope-night-2024-11-29/
LOCATION:CRUCIBLE/Vienna\, Thalhaimergasse 41\, Wien\, 1160\, Österreich
ATTACH;FMTTYPE=image/png:https://www.crucible.at/wp-content/uploads/2024/04/Rope-Night-Website1.png
END:VEVENT
END:VCALENDAR