BEGIN:VCALENDAR
VERSION:2.0
PRODID:-//CRUCIBLE - ECPv6.1.3//NONSGML v1.0//EN
CALSCALE:GREGORIAN
METHOD:PUBLISH
X-ORIGINAL-URL:https://www.crucible.at
X-WR-CALDESC:Veranstaltungen für CRUCIBLE
REFRESH-INTERVAL;VALUE=DURATION:PT1H
X-Robots-Tag:noindex
X-PUBLISHED-TTL:PT1H
BEGIN:VTIMEZONE
TZID:Europe/Vienna
BEGIN:DAYLIGHT
TZOFFSETFROM:+0100
TZOFFSETTO:+0200
TZNAME:CEST
DTSTART:20240331T010000
END:DAYLIGHT
BEGIN:STANDARD
TZOFFSETFROM:+0200
TZOFFSETTO:+0100
TZNAME:CET
DTSTART:20241027T010000
END:STANDARD
BEGIN:DAYLIGHT
TZOFFSETFROM:+0100
TZOFFSETTO:+0200
TZNAME:CEST
DTSTART:20250330T010000
END:DAYLIGHT
BEGIN:STANDARD
TZOFFSETFROM:+0200
TZOFFSETTO:+0100
TZNAME:CET
DTSTART:20251026T010000
END:STANDARD
END:VTIMEZONE
BEGIN:VEVENT
DTSTART;TZID=Europe/Vienna:20241206T210000
DTEND;TZID=Europe/Vienna:20241207T030000
DTSTAMP:20260424T144645
CREATED:20241205T005959Z
LAST-MODIFIED:20241205T005959Z
UID:10000512-1733518800-1733540400@www.crucible.at
SUMMARY:Kink-Night
DESCRIPTION:Bei einfachem Dresscode feiern wir unsere kinky Seite: unser Suspension-Rig und eine Auswahl an Leihspielzeug erwarten euch!
URL:https://www.crucible.at/event/kink-night-2024-12-06/
LOCATION:CRUCIBLE/Vienna\, Thalhaimergasse 41\, Wien\, 1160\, Österreich
ATTACH;FMTTYPE=image/png:https://www.crucible.at/wp-content/uploads/2023/08/Kink-Night-Website1.png
END:VEVENT
BEGIN:VEVENT
DTSTART;TZID=Europe/Vienna:20241207T110000
DTEND;TZID=Europe/Vienna:20241208T190000
DTSTAMP:20260424T144645
CREATED:20240924T035544Z
LAST-MODIFIED:20241002T101146Z
UID:10000475-1733569200-1733684400@www.crucible.at
SUMMARY:Pain Processing - EXPLORATION Workshop
DESCRIPTION:Stell dir vor\, der Schmerz wäre nur ein Energieträger …Was wäre\, wenn du ihn durch deinen Körper bewegen und in ekstatische Kraft verwandeln könntest?Was wäre\, wenn du deine Reaktion bewusst auswählen und sie nutzen könntest\, um Tiefe und Intensität zu erleben und deinen Körper neu wahrzunehmen? Pain Processing in einem sicheren\, bewussten\, liebevollen und konsensuellen Rahmen kann ein spannendes Werkzeug sein um: \n​ \n\n\nsich selbst tiefer zu erfahren \n\n\nkörperliche Grenzerfahrungen zu erleben \n\n\ndie Kraft des körpereigenen Rausch-Systems kennenzulernen \n\n\nekstatische oder transzendente Erfahrungen zu erzeugen \n\n\ndie Kraft der Hingabe wahrzunehmen \n\n\nunterdrückte Gefühle zugänglich zu machen und zu erleben \n\n\n\nIn diesem Workshop werden wir uns auf eine intime Reise durch die Welt des Schmerzes machen und den Raum zwischen Reiz und Reaktion erkunden. Wir werden uns darin üben\, die verschiedenen Schmerzreize in neutrale Impulse umzuwandeln und als Energie im Körper zu bewegen. Wir werden erkunden\, wie man sie in alles Mögliche umwandeln kann – sexuelle Kraft\, emotionale Entladung\, Präsenz im Hier und Jetzt\, Trance … \n  \nIn diesem zweitägigen Workshop werden wir uns folgenden Themen widmen: \n​ \n\n\nVerschiedene Aspekte und Motive von Pain Play und Spiel mit Schmerz \n\n\nNeurobiologie und Psychologie der Schmerzverarbeitung \n\n\nVerschiedene Arten von Schmerz \n\n\nGrundlagen der Körperwahrnehmung und Achtsamkeit \n\n\nSpiel mit Schmerz-Settings und Intentionen \n\n\nVerschiedene Techniken der SchmerzverarbeitungAtemtechniken zur Unterstützung des Prozesses \n\n\nUnterschiedliche Zugänge zu dem erotischen Spiel mit Schmerz \n\n\nMethoden um den Schmerz in Lust und sexuelle Energie umzuwandeln \n\n\nTantrische Praktiken\, um Energie durch den Körper zu bewegen \n\n\nKraftvolle Energie Entladungen und ganz Körper Orgasmen  \n\n\nSchmerz als Werkzeug um unterdrückte Emotionen loszulassen \n\n\n​ \n 
URL:https://www.crucible.at/event/pain-processing-2024-12-07/
LOCATION:CRUCIBLE/Vienna\, Thalhaimergasse 41\, Wien\, 1160\, Österreich
ATTACH;FMTTYPE=image/png:https://www.crucible.at/wp-content/uploads/2024/01/CCE-Website2.png
END:VEVENT
BEGIN:VEVENT
DTSTART;TZID=Europe/Vienna:20241214T210000
DTEND;TZID=Europe/Vienna:20241215T030000
DTSTAMP:20260424T144645
CREATED:20241112T034639Z
LAST-MODIFIED:20241205T005000Z
UID:10000506-1734210000-1734231600@www.crucible.at
SUMMARY:Querverbindungen & CRUCIBLE: A Christmas Playparty
DESCRIPTION:Tis the season to indulge your naughty side! Join us for an evening of holiday mischief and festive fun at our Christmas Play Party. Whether you’re feeling nice or naughty (or a little bit of both)\, come dressed to impress in your kinky holiday attire! Enjoy playfulness and sparkling connections together with our friends from Querverbindungen.
URL:https://www.crucible.at/event/xmas-2024-12-14/
LOCATION:CRUCIBLE/Vienna\, Thalhaimergasse 41\, Wien\, 1160\, Österreich
ATTACH;FMTTYPE=image/png:https://www.crucible.at/wp-content/uploads/2024/11/Christmas-Website.png
END:VEVENT
BEGIN:VEVENT
DTSTART;TZID=Europe/Vienna:20241220T210000
DTEND;TZID=Europe/Vienna:20241221T030000
DTSTAMP:20260424T144645
CREATED:20241113T045601Z
LAST-MODIFIED:20241113T045601Z
UID:10000507-1734728400-1734750000@www.crucible.at
SUMMARY:Kink-Night
DESCRIPTION:Bei einfachem Dresscode feiern wir unsere kinky Seite: unser Suspension-Rig und eine Auswahl an Leihspielzeug erwarten euch!
URL:https://www.crucible.at/event/kink-night-2024-12-20/
LOCATION:CRUCIBLE/Vienna\, Thalhaimergasse 41\, Wien\, 1160\, Österreich
ATTACH;FMTTYPE=image/png:https://www.crucible.at/wp-content/uploads/2023/08/Kink-Night-Website1.png
END:VEVENT
BEGIN:VEVENT
DTSTART;TZID=Europe/Vienna:20241228T210000
DTEND;TZID=Europe/Vienna:20241229T030000
DTSTAMP:20260424T144645
CREATED:20241113T050305Z
LAST-MODIFIED:20241113T050305Z
UID:10000510-1735419600-1735441200@www.crucible.at
SUMMARY:Rope Night
DESCRIPTION:Ein Abend ganz im Zeichen des Spiels mit Seilen\, bis tief in die Nacht\, zum Austauschen\, finden und erleben in den gewohnt kink- und sex-positiven Räumlichkeiten des CRUCIBLE/Vienna
URL:https://www.crucible.at/event/rope-night-2024-12-28/
LOCATION:CRUCIBLE/Vienna\, Thalhaimergasse 41\, Wien\, 1160\, Österreich
ATTACH;FMTTYPE=image/png:https://www.crucible.at/wp-content/uploads/2024/04/Rope-Night-Website1.png
END:VEVENT
BEGIN:VEVENT
DTSTART;TZID=Europe/Vienna:20241231T210000
DTEND;TZID=Europe/Vienna:20250101T040000
DTSTAMP:20260424T144645
CREATED:20241113T050731Z
LAST-MODIFIED:20241219T165952Z
UID:10000511-1735678800-1735704000@www.crucible.at
SUMMARY:CRUCIBLE/New Year's Eve
DESCRIPTION:Unser zweites Jahr im CRUCIBLE/Vienna geht zu Ende und wir können uns nicht schöneres Vorstellen als gemeinsam mit euch allen bei uns ins Neue Jahr 2025 spielerisch hineinzufeiern!
URL:https://www.crucible.at/event/new-years-2024-12-31/
LOCATION:CRUCIBLE/Vienna\, Thalhaimergasse 41\, Wien\, 1160\, Österreich
ATTACH;FMTTYPE=image/png:https://www.crucible.at/wp-content/uploads/2024/11/New-Year25-Website.png
END:VEVENT
END:VCALENDAR