BEGIN:VCALENDAR
VERSION:2.0
PRODID:-//CRUCIBLE - ECPv6.1.3//NONSGML v1.0//EN
CALSCALE:GREGORIAN
METHOD:PUBLISH
X-ORIGINAL-URL:https://www.crucible.at
X-WR-CALDESC:Veranstaltungen für CRUCIBLE
REFRESH-INTERVAL;VALUE=DURATION:PT1H
X-Robots-Tag:noindex
X-PUBLISHED-TTL:PT1H
BEGIN:VTIMEZONE
TZID:Europe/Vienna
BEGIN:DAYLIGHT
TZOFFSETFROM:+0100
TZOFFSETTO:+0200
TZNAME:CEST
DTSTART:20250330T010000
END:DAYLIGHT
BEGIN:STANDARD
TZOFFSETFROM:+0200
TZOFFSETTO:+0100
TZNAME:CET
DTSTART:20251026T010000
END:STANDARD
END:VTIMEZONE
BEGIN:VEVENT
DTSTART;TZID=Europe/Vienna:20250307T183000
DTEND;TZID=Europe/Vienna:20250307T213000
DTSTAMP:20260424T103236
CREATED:20250218T142757Z
LAST-MODIFIED:20250219T101328Z
UID:10000540-1741372200-1741383000@www.crucible.at
SUMMARY:Anal Pleasure Workshop
DESCRIPTION:Are you curious about having anal pleasure? \nMaybe you have tried it a little yourself or by someone else? \nHow has it been? Painful or pleasurable experience for you? \n  \nDuring this interactive workshop. You will be learning simple and powerful hands-on anal pleasure techniques. \nThe flow of the workshop is based on the somatic sexology training. With the intention to bring awareness to the anal area and the pleasure that both the giver & receiver can gain when indulging in anal play. \nThese vital skills enhance the sensations that can be gained from anal play allow for a pain free anal experience. \nThe techniques being taught will include solo or partnered exercises. \nIn the partnered exercises one person will be giving the other person will be receiving. \nBecause this is the foundation of anal play\, the exercises will be based on the warming up principles\, which will include\, breath and hand action. We will only be using a hand or a finger. \nThis workshop is open to adults of all genders and sexuality. \nSafe sex practices\, supplies and hygiene will be taught and used during this workshop. \nYour experience will include: \n  \n\n\nEmbodied exercises around consent \n\n\nAnal anatomy \n\n\nThe different styles of Anal play \n\n\nSimple\, powerful breathwork techniques \n\n\nWarming up techniques \n\n\nRose bud massage \n\n\nPain free insertion \n\n\nExploring the different sensations of the anal region \n\n\nExploring different positions that are supportive to both parties \n\n\nThe safe way to exit the anal area \n\n\nAfter care \n\n\nSafe sex practices\, supplies and hygiene \n\n\nProstate play where available \n\n\nPleasure potential \n\n\n 
URL:https://www.crucible.at/event/anal-pleasure-2025-03-07/
LOCATION:CRUCIBLE/Vienna\, Thalhaimergasse 41\, Wien\, 1160\, Österreich
ATTACH;FMTTYPE=image/png:https://www.crucible.at/wp-content/uploads/2025/02/Jeremy-Shrub-Website.png
END:VEVENT
BEGIN:VEVENT
DTSTART;TZID=Europe/Vienna:20250308T183000
DTEND;TZID=Europe/Vienna:20250309T030000
DTSTAMP:20260424T103236
CREATED:20250205T024156Z
LAST-MODIFIED:20250207T044319Z
UID:10000539-1741458600-1741489200@www.crucible.at
SUMMARY:Bacchanalia Vienna - [Externe Anmeldung]
DESCRIPTION:Salve werte Bacchanten! \nAm 8. März feiern wir wieder das Fest des Bacchus in Wien. Lasst uns gemeinsam der Gottheit des Weines\, der Freude\, der Trauben\, der Fruchtbarkeit\, des Wahnsinns und der Ekstase huldigen und ihm ein würdiges Fest abhalten. \nANMELDUNG AUSSCHLIEßLICH ÜBER DIE WEBSITE!\nhttps://bacchanalia-vienna.at \nDer Abend wird von der Hohepriesterin des Bacchus und dem Zeremonienmeister moderiert. Mit geplanten Performances und süßem\, römischen Gewürzwein bitten wir Bacchus gemeinsam um sein Wohlwollen. Servi stehen bereit\, die Gäste des Bacchus in bester römischer Manier zu bedienen und zu verwöhnen. \nWann: 8. März 2025\nEinlass ist zwischen 18:30-20 Uhr. Das moderierte Programm findet zwischen 21 und 24 Uhr statt. Ende: 3 Uhr Früh.\nEintritt ab 18 Jahren. \n\nBacchanten forderten seit jeher gesellschaftliche Vorgaben\, wie eine Person sich zu fühlen und auszusehen hat\, heraus. Auch diesmal möchten wir mit euch zusammen einen Raum schaffen\, in dem sich jede Persönlichkeit unabhängig von den gesellschaftlichen Normen offen und uneingeschränkt zeigen kann und von allen akzeptiert wird. Bacchanalia waren schon immer und werden auch diesmal queerfreundlich sein. \nDas Fest des Bacchus wurde als einer der wenigen Feiern im alten Rom von Frauen gegründet und erst später für andere Geschlechter geöffnet. Dem Fest durfte bereits in der Antike jede Person unabhängig von sexuellen Vorlieben\, gesellschaftlichem Stand oder Gender frei beiwohnen. Ob du dich als Mann\, Frau\, beides oder geschlechtslos\, als Mensch oder Tier\, Fabelwesen oder Gottheit fühlst\, an diesem Abend vermagst du dein eigenes Selbst sein! \n 
URL:https://www.crucible.at/event/bacchanalia-2025-03-08/
LOCATION:CRUCIBLE/Vienna\, Thalhaimergasse 41\, Wien\, 1160\, Österreich
ATTACH;FMTTYPE=image/png:https://www.crucible.at/wp-content/uploads/2025/02/Screenshot-2025-02-04-at-13-17-48-Bacchanalia-Vienna-Event-FetLife.png
END:VEVENT
BEGIN:VEVENT
DTSTART;TZID=Europe/Vienna:20250321T210000
DTEND;TZID=Europe/Vienna:20250322T030000
DTSTAMP:20260424T103236
CREATED:20250302T160621Z
LAST-MODIFIED:20250302T160621Z
UID:10000548-1742590800-1742612400@www.crucible.at
SUMMARY:Rope Night
DESCRIPTION:Ein Abend ganz im Zeichen des Spiels mit Seilen\, bis tief in die Nacht\, zum Austauschen\, finden und erleben in den gewohnt kink- und sex-positiven Räumlichkeiten des CRUCIBLE/Vienna
URL:https://www.crucible.at/event/rope-night-2025-03-21/
LOCATION:CRUCIBLE/Vienna\, Thalhaimergasse 41\, Wien\, 1160\, Österreich
ATTACH;FMTTYPE=image/png:https://www.crucible.at/wp-content/uploads/2024/04/Rope-Night-Website1.png
END:VEVENT
BEGIN:VEVENT
DTSTART;TZID=Europe/Vienna:20250329T210000
DTEND;TZID=Europe/Vienna:20250330T030000
DTSTAMP:20260424T103236
CREATED:20250302T161938Z
LAST-MODIFIED:20250302T161938Z
UID:10000550-1743282000-1743303600@www.crucible.at
SUMMARY:Kink-Night
DESCRIPTION:Bei einfachem Dresscode feiern wir unsere kinky Seite: unser Suspension-Rig und eine Auswahl an Leihspielzeug erwarten euch!
URL:https://www.crucible.at/event/kink-night/
LOCATION:CRUCIBLE/Vienna\, Thalhaimergasse 41\, Wien\, 1160\, Österreich
ATTACH;FMTTYPE=image/png:https://www.crucible.at/wp-content/uploads/2023/08/Kink-Night-Website1.png
END:VEVENT
END:VCALENDAR