BEGIN:VCALENDAR
VERSION:2.0
PRODID:-//CRUCIBLE - ECPv6.1.3//NONSGML v1.0//EN
CALSCALE:GREGORIAN
METHOD:PUBLISH
X-ORIGINAL-URL:https://www.crucible.at
X-WR-CALDESC:Veranstaltungen für CRUCIBLE
REFRESH-INTERVAL;VALUE=DURATION:PT1H
X-Robots-Tag:noindex
X-PUBLISHED-TTL:PT1H
BEGIN:VTIMEZONE
TZID:Europe/Vienna
BEGIN:DAYLIGHT
TZOFFSETFROM:+0100
TZOFFSETTO:+0200
TZNAME:CEST
DTSTART:20250330T010000
END:DAYLIGHT
BEGIN:STANDARD
TZOFFSETFROM:+0200
TZOFFSETTO:+0100
TZNAME:CET
DTSTART:20251026T010000
END:STANDARD
END:VTIMEZONE
BEGIN:VEVENT
DTSTART;TZID=Europe/Vienna:20250405T210000
DTEND;TZID=Europe/Vienna:20250406T030000
DTSTAMP:20260420T092013
CREATED:20250327T113248Z
LAST-MODIFIED:20250327T113248Z
UID:10000554-1743886800-1743908400@www.crucible.at
SUMMARY:Kink-Night
DESCRIPTION:Bei einfachem Dresscode feiern wir unsere kinky Seite: unser Suspension-Rig und eine Auswahl an Leihspielzeug erwarten euch!
URL:https://www.crucible.at/event/kink-night-2025-04-05/
LOCATION:CRUCIBLE/Vienna\, Thalhaimergasse 41\, Wien\, 1160\, Österreich
ATTACH;FMTTYPE=image/png:https://www.crucible.at/wp-content/uploads/2023/08/Kink-Night-Website1.png
END:VEVENT
BEGIN:VEVENT
DTSTART;TZID=Europe/Vienna:20250412T210000
DTEND;TZID=Europe/Vienna:20250413T030000
DTSTAMP:20260420T092013
CREATED:20250327T142555Z
LAST-MODIFIED:20250327T144340Z
UID:10000567-1744491600-1744513200@www.crucible.at
SUMMARY:Rope Night
DESCRIPTION:Ein Abend ganz im Zeichen des Spiels mit Seilen\, bis tief in die Nacht\, zum Austauschen\, finden und erleben in den gewohnt kink- und sex-positiven Räumlichkeiten des CRUCIBLE/Vienna
URL:https://www.crucible.at/event/rope-night-2025-04-12/
LOCATION:CRUCIBLE/Vienna\, Thalhaimergasse 41\, Wien\, 1160\, Österreich
ATTACH;FMTTYPE=image/png:https://www.crucible.at/wp-content/uploads/2024/04/Rope-Night-Website1.png
END:VEVENT
BEGIN:VEVENT
DTSTART;TZID=Europe/Vienna:20250419T210000
DTEND;TZID=Europe/Vienna:20250420T030000
DTSTAMP:20260420T092013
CREATED:20250327T140213Z
LAST-MODIFIED:20250331T135714Z
UID:10000562-1745096400-1745118000@www.crucible.at
SUMMARY:CRUCIBLE/Easter Party
DESCRIPTION:Der Frühling ist da\, die Tage werden länger und allerlei Kuscheltiere erwachen aus ihrem Winterschlaf!\nWir freuen uns darauf mit euch\, ob als Osterhasy\, in frühlingshaftem weiß und blumig oder in gewohntem kinky schwarz in unseren dekorierten Hallen zu feiern\,
URL:https://www.crucible.at/event/crucible-easter-party-2025-04-19/
LOCATION:CRUCIBLE/Vienna\, Thalhaimergasse 41\, Wien\, 1160\, Österreich
ATTACH;FMTTYPE=image/png:https://www.crucible.at/wp-content/uploads/2024/01/website-easter.png
END:VEVENT
BEGIN:VEVENT
DTSTART;TZID=Europe/Vienna:20250426T183000
DTEND;TZID=Europe/Vienna:20250426T203000
DTSTAMP:20260420T092013
CREATED:20250327T130643Z
LAST-MODIFIED:20250423T154109Z
UID:10000561-1745692200-1745699400@www.crucible.at
SUMMARY:Kinky Speed-Dating [Booked Out - Waiting List]
DESCRIPTION:Du suchst Gleichgesinnte\, mit denen du deine Kinks\, Ideen und Leidenschaften teilen kannst? Sei es als Freundschaften\, Spielpartnys\, Dates oder Beziehungen?\nBeim Kinky Speed Dating hast du die Chance\, in gewohnter queerer\, sex-positiver und poly-friendly Atmosphäre des CRUCIBLE neue Connections zu finden.
URL:https://www.crucible.at/event/kinky-speed-dating-2025-04-26/
LOCATION:CRUCIBLE/Vienna\, Thalhaimergasse 41\, Wien\, 1160\, Österreich
ATTACH;FMTTYPE=image/png:https://www.crucible.at/wp-content/uploads/2025/02/Speed-Dating-Website.png
END:VEVENT
BEGIN:VEVENT
DTSTART;TZID=Europe/Vienna:20250426T210000
DTEND;TZID=Europe/Vienna:20250427T030000
DTSTAMP:20260420T092013
CREATED:20250327T114809Z
LAST-MODIFIED:20250327T114809Z
UID:10000555-1745701200-1745722800@www.crucible.at
SUMMARY:Kink-Night
DESCRIPTION:Bei einfachem Dresscode feiern wir unsere kinky Seite: unser Suspension-Rig und eine Auswahl an Leihspielzeug erwarten euch!
URL:https://www.crucible.at/event/kink-night-2025-04-26/
LOCATION:CRUCIBLE/Vienna\, Thalhaimergasse 41\, Wien\, 1160\, Österreich
ATTACH;FMTTYPE=image/png:https://www.crucible.at/wp-content/uploads/2023/08/Kink-Night-Website1.png
END:VEVENT
END:VCALENDAR