BEGIN:VCALENDAR
VERSION:2.0
PRODID:-//CRUCIBLE - ECPv6.1.3//NONSGML v1.0//EN
CALSCALE:GREGORIAN
METHOD:PUBLISH
X-WR-CALNAME:CRUCIBLE
X-ORIGINAL-URL:https://www.crucible.at
X-WR-CALDESC:Veranstaltungen für CRUCIBLE
REFRESH-INTERVAL;VALUE=DURATION:PT1H
X-Robots-Tag:noindex
X-PUBLISHED-TTL:PT1H
BEGIN:VTIMEZONE
TZID:Europe/Vienna
BEGIN:DAYLIGHT
TZOFFSETFROM:+0100
TZOFFSETTO:+0200
TZNAME:CEST
DTSTART:20250330T010000
END:DAYLIGHT
BEGIN:STANDARD
TZOFFSETFROM:+0200
TZOFFSETTO:+0100
TZNAME:CET
DTSTART:20251026T010000
END:STANDARD
END:VTIMEZONE
BEGIN:VEVENT
DTSTART;TZID=Europe/Vienna:20250607T210000
DTEND;TZID=Europe/Vienna:20250608T030000
DTSTAMP:20260420T053534
CREATED:20250602T012854Z
LAST-MODIFIED:20250602T013141Z
UID:10000589-1749330000-1749351600@www.crucible.at
SUMMARY:Kink-Night
DESCRIPTION:Bei einfachem Dresscode feiern wir unsere kinky Seite: unser Suspension-Rig und eine Auswahl an Leihspielzeug erwarten euch!
URL:https://www.crucible.at/event/kink-night-2025-06-07/
LOCATION:CRUCIBLE/Vienna\, Thalhaimergasse 41\, Wien\, 1160\, Österreich
ATTACH;FMTTYPE=image/png:https://www.crucible.at/wp-content/uploads/2023/08/Kink-Night-Website1.png
END:VEVENT
BEGIN:VEVENT
DTSTART;TZID=Europe/Vienna:20250614T210000
DTEND;TZID=Europe/Vienna:20250615T050000
DTSTAMP:20260420T053534
CREATED:20250602T020018Z
LAST-MODIFIED:20250611T041219Z
UID:10000592-1749934800-1749963600@www.crucible.at
SUMMARY:UNITE IN PRIDE - Vienna Pride Afterparty
DESCRIPTION:Nachdem wir gemeinsam auf der Regenbogenparade demonstriert haben\, laden wir euch herzlich ein zu unserer gemeinsamen Afterparty ins CRUCIBLE/Vienna!\nAn diesem Abend freuen wir uns darauf alle die unter dem Banner der LGBTQIA+ Community stehen\, sowie unsere Verbündeten und Unterstützer bei uns begrüßen zu dürfen um zusammen  zu zelebrieren. \nANLÄSSLICH DER REGENBOGENPARADE STEHT DAS CRUCIBLE FÜR DIESEN TAG AUCH NICHT-MITGLIEDERN OFFEN!
URL:https://www.crucible.at/event/pride-afterparty-2025-06-14/
LOCATION:CRUCIBLE/Vienna\, Thalhaimergasse 41\, Wien\, 1160\, Österreich
ATTACH;FMTTYPE=image/png:https://www.crucible.at/wp-content/uploads/2025/06/Pride-25-Afterparty.png
END:VEVENT
BEGIN:VEVENT
DTSTART;TZID=Europe/Vienna:20250621T210000
DTEND;TZID=Europe/Vienna:20250622T030000
DTSTAMP:20260420T053534
CREATED:20250602T012657Z
LAST-MODIFIED:20250626T003902Z
UID:10000587-1750539600-1750561200@www.crucible.at
SUMMARY:Rope Night
DESCRIPTION:Ein Abend ganz im Zeichen des Spiels mit Seilen\, bis tief in die Nacht\, zum Austauschen\, finden und erleben in den gewohnt kink- und sex-positiven Räumlichkeiten des CRUCIBLE/Vienna
URL:https://www.crucible.at/event/rope-night-2025-06-21/
LOCATION:CRUCIBLE/Vienna\, Thalhaimergasse 41\, Wien\, 1160\, Österreich
ATTACH;FMTTYPE=image/png:https://www.crucible.at/wp-content/uploads/2024/04/Rope-Night-Website1.png
END:VEVENT
BEGIN:VEVENT
DTSTART;TZID=Europe/Vienna:20250627T183000
DTEND;TZID=Europe/Vienna:20250627T203000
DTSTAMP:20260420T053534
CREATED:20250602T015208Z
LAST-MODIFIED:20250602T015208Z
UID:10000590-1751049000-1751056200@www.crucible.at
SUMMARY:Kinky Speed-Dating
DESCRIPTION:Du suchst Gleichgesinnte\, mit denen du deine Kinks\, Ideen und Leidenschaften teilen kannst? Sei es als Freundschaften\, Spielpartnys\, Dates oder Beziehungen?\nBeim Kinky Speed Dating hast du die Chance\, in gewohnter queerer\, sex-positiver und poly-friendly Atmosphäre des CRUCIBLE neue Connections zu finden.
URL:https://www.crucible.at/event/kinky-speed-dating-2025-06-27/
LOCATION:CRUCIBLE/Vienna\, Thalhaimergasse 41\, Wien\, 1160\, Österreich
ATTACH;FMTTYPE=image/png:https://www.crucible.at/wp-content/uploads/2025/02/Speed-Dating-Website.png
END:VEVENT
BEGIN:VEVENT
DTSTART;TZID=Europe/Vienna:20250627T210000
DTEND;TZID=Europe/Vienna:20250628T030000
DTSTAMP:20260420T053534
CREATED:20250602T013308Z
LAST-MODIFIED:20250602T013308Z
UID:10000588-1751058000-1751079600@www.crucible.at
SUMMARY:Kink-Night
DESCRIPTION:Bei einfachem Dresscode feiern wir unsere kinky Seite: unser Suspension-Rig und eine Auswahl an Leihspielzeug erwarten euch!
URL:https://www.crucible.at/event/kink-night-2025-06-27/
LOCATION:CRUCIBLE/Vienna\, Thalhaimergasse 41\, Wien\, 1160\, Österreich
ATTACH;FMTTYPE=image/png:https://www.crucible.at/wp-content/uploads/2023/08/Kink-Night-Website1.png
END:VEVENT
END:VCALENDAR