BEGIN:VCALENDAR
VERSION:2.0
PRODID:-//CRUCIBLE - ECPv6.1.3//NONSGML v1.0//EN
CALSCALE:GREGORIAN
METHOD:PUBLISH
X-ORIGINAL-URL:https://www.crucible.at
X-WR-CALDESC:Veranstaltungen für CRUCIBLE
REFRESH-INTERVAL;VALUE=DURATION:PT1H
X-Robots-Tag:noindex
X-PUBLISHED-TTL:PT1H
BEGIN:VTIMEZONE
TZID:Europe/Vienna
BEGIN:DAYLIGHT
TZOFFSETFROM:+0100
TZOFFSETTO:+0200
TZNAME:CEST
DTSTART:20250330T010000
END:DAYLIGHT
BEGIN:STANDARD
TZOFFSETFROM:+0200
TZOFFSETTO:+0100
TZNAME:CET
DTSTART:20251026T010000
END:STANDARD
END:VTIMEZONE
BEGIN:VEVENT
DTSTART;TZID=Europe/Vienna:20250802T210000
DTEND;TZID=Europe/Vienna:20250803T030000
DTSTAMP:20260420T015919
CREATED:20250728T235705Z
LAST-MODIFIED:20250728T235705Z
UID:10000610-1754168400-1754190000@www.crucible.at
SUMMARY:Kink-Night
DESCRIPTION:Bei einfachem Dresscode feiern wir unsere kinky Seite: unser Suspension-Rig und eine Auswahl an Leihspielzeug erwarten euch!
URL:https://www.crucible.at/event/kink-night-2025-08-02/
LOCATION:CRUCIBLE/Vienna\, Thalhaimergasse 41\, Wien\, 1160\, Österreich
ATTACH;FMTTYPE=image/png:https://www.crucible.at/wp-content/uploads/2023/08/Kink-Night-Website1.png
END:VEVENT
BEGIN:VEVENT
DTSTART;TZID=Europe/Vienna:20250809T210000
DTEND;TZID=Europe/Vienna:20250810T030000
DTSTAMP:20260420T015919
CREATED:20250729T005219Z
LAST-MODIFIED:20250729T005327Z
UID:10000616-1754773200-1754794800@www.crucible.at
SUMMARY:Kink-Night
DESCRIPTION:Bei einfachem Dresscode feiern wir unsere kinky Seite: unser Suspension-Rig und eine Auswahl an Leihspielzeug erwarten euch!
URL:https://www.crucible.at/event/kink-night-2025-08-09/
LOCATION:CRUCIBLE/Vienna\, Thalhaimergasse 41\, Wien\, 1160\, Österreich
ATTACH;FMTTYPE=image/png:https://www.crucible.at/wp-content/uploads/2023/08/Kink-Night-Website1.png
END:VEVENT
BEGIN:VEVENT
DTSTART;TZID=Europe/Vienna:20250815T210000
DTEND;TZID=Europe/Vienna:20250816T030000
DTSTAMP:20260420T015919
CREATED:20250729T005408Z
LAST-MODIFIED:20250729T005408Z
UID:10000617-1755291600-1755313200@www.crucible.at
SUMMARY:Kink-Night
DESCRIPTION:Bei einfachem Dresscode feiern wir unsere kinky Seite: unser Suspension-Rig und eine Auswahl an Leihspielzeug erwarten euch!
URL:https://www.crucible.at/event/kink-night-2025-08-15/
LOCATION:CRUCIBLE/Vienna\, Thalhaimergasse 41\, Wien\, 1160\, Österreich
ATTACH;FMTTYPE=image/png:https://www.crucible.at/wp-content/uploads/2023/08/Kink-Night-Website1.png
END:VEVENT
BEGIN:VEVENT
DTSTART;TZID=Europe/Vienna:20250830T210000
DTEND;TZID=Europe/Vienna:20250831T040000
DTSTAMP:20260420T015919
CREATED:20250729T000322Z
LAST-MODIFIED:20250815T034622Z
UID:10000611-1756587600-1756612800@www.crucible.at
SUMMARY:WELCOME TO WONDERLAND - Mad Hatter's Tea Party
DESCRIPTION:Zwei Jahre ist es her dass wir unsere Pforten öffneten\, wir euch in unserem Wunderland Willkommenheißen durften und euch schließlich „Through the Looking Glass“ einen Blick in unsere Zukunft gewähren durften\, jetzt ist es wieder Zeit den Jahrestag unserer Eröffnung zu feiern! \nWelcome to Wonderland – Mad Hatter’s Tea (Play) Party \nDas Motto für dieses fesselnde Jubiläum ist nichts anderes als „Willkommen im Wunderland“ und vielleicht sind die ein oder anderen eurer Figuren im letzten Jahr gewachsen\, gewandelt\, ob in Richtung Licht oder Dunkelheit\, hin zum Reich hinter den Spiegel oder gut eingelebt als Dauergäste an der Tafel des Hutmachers? …. wer vermag dies schon vorherzusagen…. \n 
URL:https://www.crucible.at/event/wonderland-2025-08-30/
LOCATION:CRUCIBLE/Vienna\, Thalhaimergasse 41\, Wien\, 1160\, Österreich
ATTACH;FMTTYPE=image/png:https://www.crucible.at/wp-content/uploads/2025/07/wonderland25-Website.png
END:VEVENT
END:VCALENDAR