BEGIN:VCALENDAR
VERSION:2.0
PRODID:-//CRUCIBLE - ECPv6.1.3//NONSGML v1.0//EN
CALSCALE:GREGORIAN
METHOD:PUBLISH
X-ORIGINAL-URL:https://www.crucible.at
X-WR-CALDESC:Veranstaltungen für CRUCIBLE
REFRESH-INTERVAL;VALUE=DURATION:PT1H
X-Robots-Tag:noindex
X-PUBLISHED-TTL:PT1H
BEGIN:VTIMEZONE
TZID:Europe/Vienna
BEGIN:DAYLIGHT
TZOFFSETFROM:+0100
TZOFFSETTO:+0200
TZNAME:CEST
DTSTART:20230326T010000
END:DAYLIGHT
BEGIN:STANDARD
TZOFFSETFROM:+0200
TZOFFSETTO:+0100
TZNAME:CET
DTSTART:20231029T010000
END:STANDARD
END:VTIMEZONE
BEGIN:VEVENT
DTSTART;TZID=Europe/Vienna:20231101T191500
DTEND;TZID=Europe/Vienna:20231101T233000
DTSTAMP:20260425T172145
CREATED:20231027T065718Z
LAST-MODIFIED:20231027T065800Z
UID:10000323-1698866100-1698881400@www.crucible.at
SUMMARY:Halloween Rope Jam
DESCRIPTION:Wir laden euch herzlich ein das CRUCIBLE/Vienna als Fesselspielplatz zu nutzen\, euch Auszutauschen und eure Erfahrungen zu teilen! \nEin erfahrenes Fessly wird bei Bedarf ein Beginner’s Corner betreuen und euch die Basics zeigen.
URL:https://www.crucible.at/event/halloween-rope-jam-2023-10-01/
LOCATION:CRUCIBLE/Vienna\, Thalhaimergasse 41\, Wien\, 1160\, Österreich
ATTACH;FMTTYPE=image/png:https://www.crucible.at/wp-content/uploads/2023/10/Copy-of-Halloween-Website.png
END:VEVENT
BEGIN:VEVENT
DTSTART;TZID=Europe/Vienna:20231112T160000
DTEND;TZID=Europe/Vienna:20231112T200000
DTSTAMP:20260425T172145
CREATED:20231022T224522Z
LAST-MODIFIED:20231109T171258Z
UID:10000332-1699804800-1699819200@www.crucible.at
SUMMARY:Pain & Pleasure Manual Techniques
DESCRIPTION:Your fingers are amazing instruments always at your disposal\, have you ever thought of using them to\ngive pain to someone? And of doing so for *good* reasons? Come and learn why and how pain can\nbe a wonderful instrument in exploring connections and deep\, rich sensations.
URL:https://www.crucible.at/event/pain-pleasure-manual-techniques-2023-11-12/
LOCATION:CRUCIBLE/Vienna\, Thalhaimergasse 41\, Wien\, 1160\, Österreich
ATTACH;FMTTYPE=image/png:https://www.crucible.at/wp-content/uploads/2023/10/PainPleasure-Website.png
END:VEVENT
END:VCALENDAR