BEGIN:VCALENDAR
VERSION:2.0
PRODID:-//CRUCIBLE - ECPv6.1.3//NONSGML v1.0//EN
CALSCALE:GREGORIAN
METHOD:PUBLISH
X-ORIGINAL-URL:https://www.crucible.at
X-WR-CALDESC:Veranstaltungen für CRUCIBLE
REFRESH-INTERVAL;VALUE=DURATION:PT1H
X-Robots-Tag:noindex
X-PUBLISHED-TTL:PT1H
BEGIN:VTIMEZONE
TZID:Europe/Vienna
BEGIN:DAYLIGHT
TZOFFSETFROM:+0100
TZOFFSETTO:+0200
TZNAME:CEST
DTSTART:20230326T010000
END:DAYLIGHT
BEGIN:STANDARD
TZOFFSETFROM:+0200
TZOFFSETTO:+0100
TZNAME:CET
DTSTART:20231029T010000
END:STANDARD
END:VTIMEZONE
BEGIN:VEVENT
DTSTART;TZID=Europe/Vienna:20231205T183000
DTEND;TZID=Europe/Vienna:20231206T020000
DTSTAMP:20260425T154122
CREATED:20231127T061247Z
LAST-MODIFIED:20231128T060355Z
UID:10000344-1701801000-1701828000@www.crucible.at
SUMMARY:Krampus - Impact Play Evening
DESCRIPTION:Der Krampus zieht auch bei uns im CRUCIBLE/Vienna seine Runden\, welch‘ besserer Tag um einen Impact Play Abend auszurufen und gleich die Gelegenheit zu haben\, sich vom Krampus zeigen zu lassen wie mit all den mitgebrachten Ruten\, Gerten und Peitschen umzugehen ist?
URL:https://www.crucible.at/event/krampus-2023-12-05/
LOCATION:CRUCIBLE/Vienna\, Thalhaimergasse 41\, Wien\, 1160\, Österreich
ATTACH;FMTTYPE=image/png:https://www.crucible.at/wp-content/uploads/2023/11/Krampus-Special-Web1.png
END:VEVENT
BEGIN:VEVENT
DTSTART;TZID=Europe/Vienna:20231210T153000
DTEND;TZID=Europe/Vienna:20231210T200000
DTSTAMP:20260425T154122
CREATED:20231109T171107Z
LAST-MODIFIED:20231119T145800Z
UID:10000340-1702222200-1702238400@www.crucible.at
SUMMARY:Pain & Pleasure Manual Techniques - Advanced
DESCRIPTION:Advanced: This workshop is for all you fellow pleasure catalysts that want to dig deeper and use the techniques you learned at the foundation level to create and sustain intentional settings such as for deep relaxation\, erotic play\, emotional release or to explore further your body boundaries. The focus of the workshop will be on how to structure and sustain a session whilst providing enough time and space to try out your toolbox in a facilitated space where you can count on our support and input. We will also provide you with some extra theory on pain physiology and psychosomatics.
URL:https://www.crucible.at/event/pain-pleasure-manual-techniques-advanced-2023-12-10/
LOCATION:CRUCIBLE/Vienna\, Thalhaimergasse 41\, Wien\, 1160\, Österreich
ATTACH;FMTTYPE=image/png:https://www.crucible.at/wp-content/uploads/2023/11/PainPleasure-Website2.png
END:VEVENT
BEGIN:VEVENT
DTSTART;TZID=Europe/Vienna:20231213T191500
DTEND;TZID=Europe/Vienna:20231213T233000
DTSTAMP:20260425T154122
CREATED:20231210T223859Z
LAST-MODIFIED:20231211T204302Z
UID:10000355-1702494900-1702510200@www.crucible.at
SUMMARY:Rope Jam
DESCRIPTION:Wir laden euch herzlich ein das CRUCIBLE/Vienna als Fesselspielplatz zu nutzen\, euch Auszutauschen und eure Erfahrungen zu teilen! \nEin erfahrenes Fessly wird bei Bedarf ein Beginner’s Corner betreuen und euch die Basics zeigen.
URL:https://www.crucible.at/event/rope-jam-2023-12-13/
LOCATION:CRUCIBLE/Vienna\, Thalhaimergasse 41\, Wien\, 1160\, Österreich
ATTACH;FMTTYPE=image/png:https://www.crucible.at/wp-content/uploads/2023/08/Rope-Jam-Website2.png
END:VEVENT
BEGIN:VEVENT
DTSTART;TZID=Europe/Vienna:20231220T191500
DTEND;TZID=Europe/Vienna:20231220T233000
DTSTAMP:20260425T154122
CREATED:20231211T204345Z
LAST-MODIFIED:20231211T204345Z
UID:10000356-1703099700-1703115000@www.crucible.at
SUMMARY:Rope Jam
DESCRIPTION:Wir laden euch herzlich ein das CRUCIBLE/Vienna als Fesselspielplatz zu nutzen\, euch Auszutauschen und eure Erfahrungen zu teilen! \nEin erfahrenes Fessly wird bei Bedarf ein Beginner’s Corner betreuen und euch die Basics zeigen.
URL:https://www.crucible.at/event/rope-jam-2023-12-20/
LOCATION:CRUCIBLE/Vienna\, Thalhaimergasse 41\, Wien\, 1160\, Österreich
ATTACH;FMTTYPE=image/png:https://www.crucible.at/wp-content/uploads/2023/08/Rope-Jam-Website2.png
END:VEVENT
BEGIN:VEVENT
DTSTART;TZID=Europe/Vienna:20231227T191500
DTEND;TZID=Europe/Vienna:20231227T233000
DTSTAMP:20260425T154122
CREATED:20231211T204521Z
LAST-MODIFIED:20231211T204521Z
UID:10000357-1703704500-1703719800@www.crucible.at
SUMMARY:Rope Jam
DESCRIPTION:Wir laden euch herzlich ein das CRUCIBLE/Vienna als Fesselspielplatz zu nutzen\, euch Auszutauschen und eure Erfahrungen zu teilen! \nEin erfahrenes Fessly wird bei Bedarf ein Beginner’s Corner betreuen und euch die Basics zeigen.
URL:https://www.crucible.at/event/rope-jam-2023-12-27/
LOCATION:CRUCIBLE/Vienna\, Thalhaimergasse 41\, Wien\, 1160\, Österreich
ATTACH;FMTTYPE=image/png:https://www.crucible.at/wp-content/uploads/2023/08/Rope-Jam-Website2.png
END:VEVENT
END:VCALENDAR