BEGIN:VCALENDAR
VERSION:2.0
PRODID:-//CRUCIBLE - ECPv6.1.3//NONSGML v1.0//EN
CALSCALE:GREGORIAN
METHOD:PUBLISH
X-ORIGINAL-URL:https://www.crucible.at
X-WR-CALDESC:Veranstaltungen für CRUCIBLE
REFRESH-INTERVAL;VALUE=DURATION:PT1H
X-Robots-Tag:noindex
X-PUBLISHED-TTL:PT1H
BEGIN:VTIMEZONE
TZID:Europe/Vienna
BEGIN:DAYLIGHT
TZOFFSETFROM:+0100
TZOFFSETTO:+0200
TZNAME:CEST
DTSTART:20240331T010000
END:DAYLIGHT
BEGIN:STANDARD
TZOFFSETFROM:+0200
TZOFFSETTO:+0100
TZNAME:CET
DTSTART:20241027T010000
END:STANDARD
END:VTIMEZONE
BEGIN:VEVENT
DTSTART;TZID=Europe/Vienna:20241106T191500
DTEND;TZID=Europe/Vienna:20241106T233000
DTSTAMP:20260425T002327
CREATED:20241028T234237Z
LAST-MODIFIED:20241028T234237Z
UID:10000490-1730920500-1730935800@www.crucible.at
SUMMARY:Rope Jam
DESCRIPTION:Wir laden euch herzlich ein das CRUCIBLE/Vienna als Fesselspielplatz zu nutzen\, euch Auszutauschen und eure Erfahrungen zu teilen! \nEin erfahrenes Fessly wird bei Bedarf ein Beginner’s Corner betreuen und euch die Basics zeigen. \nDer Rope Jam findet wöchentlich jeden Mittwoch statt.
URL:https://www.crucible.at/event/rope-jam-2024-11-06/
LOCATION:CRUCIBLE/Vienna\, Thalhaimergasse 41\, Wien\, 1160\, Österreich
ATTACH;FMTTYPE=image/png:https://www.crucible.at/wp-content/uploads/2023/08/Rope-Jam-Website2.png
END:VEVENT
BEGIN:VEVENT
DTSTART;TZID=Europe/Vienna:20241113T191500
DTEND;TZID=Europe/Vienna:20241113T233000
DTSTAMP:20260425T002327
CREATED:20241028T234308Z
LAST-MODIFIED:20241028T234448Z
UID:10000491-1731525300-1731540600@www.crucible.at
SUMMARY:Rope Jam
DESCRIPTION:Wir laden euch herzlich ein das CRUCIBLE/Vienna als Fesselspielplatz zu nutzen\, euch Auszutauschen und eure Erfahrungen zu teilen! \nEin erfahrenes Fessly wird bei Bedarf ein Beginner’s Corner betreuen und euch die Basics zeigen. \nDer Rope Jam findet wöchentlich jeden Mittwoch statt.
URL:https://www.crucible.at/event/rope-jam-2024-11-13/
LOCATION:CRUCIBLE/Vienna\, Thalhaimergasse 41\, Wien\, 1160\, Österreich
ATTACH;FMTTYPE=image/png:https://www.crucible.at/wp-content/uploads/2023/08/Rope-Jam-Website2.png
END:VEVENT
BEGIN:VEVENT
DTSTART;TZID=Europe/Vienna:20241120T193000
DTEND;TZID=Europe/Vienna:20241120T233000
DTSTAMP:20260425T002327
CREATED:20241028T234343Z
LAST-MODIFIED:20241028T234418Z
UID:10000492-1732131000-1732145400@www.crucible.at
SUMMARY:Rope Jam
DESCRIPTION:Wir laden euch herzlich ein das CRUCIBLE/Vienna als Fesselspielplatz zu nutzen\, euch Auszutauschen und eure Erfahrungen zu teilen! \nEin erfahrenes Fessly wird bei Bedarf ein Beginner’s Corner betreuen und euch die Basics zeigen. \nDer Rope Jam findet wöchentlich jeden Mittwoch statt.
URL:https://www.crucible.at/event/rope-jam-2024-11-20/
LOCATION:CRUCIBLE/Vienna\, Thalhaimergasse 41\, Wien\, 1160\, Österreich
ATTACH;FMTTYPE=image/png:https://www.crucible.at/wp-content/uploads/2023/08/Rope-Jam-Website2.png
END:VEVENT
BEGIN:VEVENT
DTSTART;TZID=Europe/Vienna:20241127T193000
DTEND;TZID=Europe/Vienna:20241127T233000
DTSTAMP:20260425T002327
CREATED:20241028T234505Z
LAST-MODIFIED:20241028T234505Z
UID:10000493-1732735800-1732750200@www.crucible.at
SUMMARY:Rope Jam
DESCRIPTION:Wir laden euch herzlich ein das CRUCIBLE/Vienna als Fesselspielplatz zu nutzen\, euch Auszutauschen und eure Erfahrungen zu teilen! \nEin erfahrenes Fessly wird bei Bedarf ein Beginner’s Corner betreuen und euch die Basics zeigen. \nDer Rope Jam findet wöchentlich jeden Mittwoch statt.
URL:https://www.crucible.at/event/rope-jam-2024-11-27/
LOCATION:CRUCIBLE/Vienna\, Thalhaimergasse 41\, Wien\, 1160\, Österreich
ATTACH;FMTTYPE=image/png:https://www.crucible.at/wp-content/uploads/2023/08/Rope-Jam-Website2.png
END:VEVENT
END:VCALENDAR