BEGIN:VCALENDAR
VERSION:2.0
PRODID:-//CRUCIBLE - ECPv6.1.3//NONSGML v1.0//EN
CALSCALE:GREGORIAN
METHOD:PUBLISH
X-ORIGINAL-URL:https://www.crucible.at
X-WR-CALDESC:Veranstaltungen für CRUCIBLE
REFRESH-INTERVAL;VALUE=DURATION:PT1H
X-Robots-Tag:noindex
X-PUBLISHED-TTL:PT1H
BEGIN:VTIMEZONE
TZID:Europe/Vienna
BEGIN:DAYLIGHT
TZOFFSETFROM:+0100
TZOFFSETTO:+0200
TZNAME:CEST
DTSTART:20240331T010000
END:DAYLIGHT
BEGIN:STANDARD
TZOFFSETFROM:+0200
TZOFFSETTO:+0100
TZNAME:CET
DTSTART:20241027T010000
END:STANDARD
END:VTIMEZONE
BEGIN:VEVENT
DTSTART;TZID=Europe/Vienna:20241204T193000
DTEND;TZID=Europe/Vienna:20241204T233000
DTSTAMP:20260424T225903
CREATED:20241112T033922Z
LAST-MODIFIED:20241112T034446Z
UID:10000503-1733340600-1733355000@www.crucible.at
SUMMARY:Rope Jam
DESCRIPTION:Wir laden euch herzlich ein das CRUCIBLE/Vienna als Fesselspielplatz zu nutzen\, euch Auszutauschen und eure Erfahrungen zu teilen! \nEin erfahrenes Fessly wird bei Bedarf ein Beginner’s Corner betreuen und euch die Basics zeigen. \nDer Rope Jam findet wöchentlich jeden Mittwoch statt.
URL:https://www.crucible.at/event/rope-jam-2024-12-04/
LOCATION:CRUCIBLE/Vienna\, Thalhaimergasse 41\, Wien\, 1160\, Österreich
ATTACH;FMTTYPE=image/png:https://www.crucible.at/wp-content/uploads/2023/08/Rope-Jam-Website2.png
END:VEVENT
BEGIN:VEVENT
DTSTART;TZID=Europe/Vienna:20241207T110000
DTEND;TZID=Europe/Vienna:20241208T190000
DTSTAMP:20260424T225903
CREATED:20240924T035544Z
LAST-MODIFIED:20241002T101146Z
UID:10000475-1733569200-1733684400@www.crucible.at
SUMMARY:Pain Processing - EXPLORATION Workshop
DESCRIPTION:Stell dir vor\, der Schmerz wäre nur ein Energieträger …Was wäre\, wenn du ihn durch deinen Körper bewegen und in ekstatische Kraft verwandeln könntest?Was wäre\, wenn du deine Reaktion bewusst auswählen und sie nutzen könntest\, um Tiefe und Intensität zu erleben und deinen Körper neu wahrzunehmen? Pain Processing in einem sicheren\, bewussten\, liebevollen und konsensuellen Rahmen kann ein spannendes Werkzeug sein um: \n​ \n\n\nsich selbst tiefer zu erfahren \n\n\nkörperliche Grenzerfahrungen zu erleben \n\n\ndie Kraft des körpereigenen Rausch-Systems kennenzulernen \n\n\nekstatische oder transzendente Erfahrungen zu erzeugen \n\n\ndie Kraft der Hingabe wahrzunehmen \n\n\nunterdrückte Gefühle zugänglich zu machen und zu erleben \n\n\n\nIn diesem Workshop werden wir uns auf eine intime Reise durch die Welt des Schmerzes machen und den Raum zwischen Reiz und Reaktion erkunden. Wir werden uns darin üben\, die verschiedenen Schmerzreize in neutrale Impulse umzuwandeln und als Energie im Körper zu bewegen. Wir werden erkunden\, wie man sie in alles Mögliche umwandeln kann – sexuelle Kraft\, emotionale Entladung\, Präsenz im Hier und Jetzt\, Trance … \n  \nIn diesem zweitägigen Workshop werden wir uns folgenden Themen widmen: \n​ \n\n\nVerschiedene Aspekte und Motive von Pain Play und Spiel mit Schmerz \n\n\nNeurobiologie und Psychologie der Schmerzverarbeitung \n\n\nVerschiedene Arten von Schmerz \n\n\nGrundlagen der Körperwahrnehmung und Achtsamkeit \n\n\nSpiel mit Schmerz-Settings und Intentionen \n\n\nVerschiedene Techniken der SchmerzverarbeitungAtemtechniken zur Unterstützung des Prozesses \n\n\nUnterschiedliche Zugänge zu dem erotischen Spiel mit Schmerz \n\n\nMethoden um den Schmerz in Lust und sexuelle Energie umzuwandeln \n\n\nTantrische Praktiken\, um Energie durch den Körper zu bewegen \n\n\nKraftvolle Energie Entladungen und ganz Körper Orgasmen  \n\n\nSchmerz als Werkzeug um unterdrückte Emotionen loszulassen \n\n\n​ \n 
URL:https://www.crucible.at/event/pain-processing-2024-12-07/
LOCATION:CRUCIBLE/Vienna\, Thalhaimergasse 41\, Wien\, 1160\, Österreich
ATTACH;FMTTYPE=image/png:https://www.crucible.at/wp-content/uploads/2024/01/CCE-Website2.png
END:VEVENT
BEGIN:VEVENT
DTSTART;TZID=Europe/Vienna:20241211T193000
DTEND;TZID=Europe/Vienna:20241211T233000
DTSTAMP:20260424T225903
CREATED:20241112T034443Z
LAST-MODIFIED:20241112T042027Z
UID:10000505-1733945400-1733959800@www.crucible.at
SUMMARY:Rope Jam
DESCRIPTION:Wir laden euch herzlich ein das CRUCIBLE/Vienna als Fesselspielplatz zu nutzen\, euch Auszutauschen und eure Erfahrungen zu teilen! \nEin erfahrenes Fessly wird bei Bedarf ein Beginner’s Corner betreuen und euch die Basics zeigen. \nDer Rope Jam findet wöchentlich jeden Mittwoch statt.
URL:https://www.crucible.at/event/rope-jam-2024-12-11/
LOCATION:CRUCIBLE/Vienna\, Thalhaimergasse 41\, Wien\, 1160\, Österreich
ATTACH;FMTTYPE=image/png:https://www.crucible.at/wp-content/uploads/2023/08/Rope-Jam-Website2.png
END:VEVENT
BEGIN:VEVENT
DTSTART;TZID=Europe/Vienna:20241218T193000
DTEND;TZID=Europe/Vienna:20241218T233000
DTSTAMP:20260424T225903
CREATED:20241112T034441Z
LAST-MODIFIED:20241112T042034Z
UID:10000504-1734550200-1734564600@www.crucible.at
SUMMARY:Rope Jam
DESCRIPTION:Wir laden euch herzlich ein das CRUCIBLE/Vienna als Fesselspielplatz zu nutzen\, euch Auszutauschen und eure Erfahrungen zu teilen! \nEin erfahrenes Fessly wird bei Bedarf ein Beginner’s Corner betreuen und euch die Basics zeigen. \nDer Rope Jam findet wöchentlich jeden Mittwoch statt.
URL:https://www.crucible.at/event/rope-jam-2024-12-18/
LOCATION:CRUCIBLE/Vienna\, Thalhaimergasse 41\, Wien\, 1160\, Österreich
ATTACH;FMTTYPE=image/png:https://www.crucible.at/wp-content/uploads/2023/08/Rope-Jam-Website2.png
END:VEVENT
END:VCALENDAR