BEGIN:VCALENDAR
VERSION:2.0
PRODID:-//CRUCIBLE - ECPv6.1.3//NONSGML v1.0//EN
CALSCALE:GREGORIAN
METHOD:PUBLISH
X-WR-CALNAME:CRUCIBLE
X-ORIGINAL-URL:https://www.crucible.at
X-WR-CALDESC:Veranstaltungen für CRUCIBLE
REFRESH-INTERVAL;VALUE=DURATION:PT1H
X-Robots-Tag:noindex
X-PUBLISHED-TTL:PT1H
BEGIN:VTIMEZONE
TZID:Europe/Vienna
BEGIN:DAYLIGHT
TZOFFSETFROM:+0100
TZOFFSETTO:+0200
TZNAME:CEST
DTSTART:20250330T010000
END:DAYLIGHT
BEGIN:STANDARD
TZOFFSETFROM:+0200
TZOFFSETTO:+0100
TZNAME:CET
DTSTART:20251026T010000
END:STANDARD
END:VTIMEZONE
BEGIN:VEVENT
DTSTART;TZID=Europe/Vienna:20250409T193000
DTEND;TZID=Europe/Vienna:20250409T233000
DTSTAMP:20260424T174311
CREATED:20250327T115247Z
LAST-MODIFIED:20250327T115247Z
UID:10000556-1744227000-1744241400@www.crucible.at
SUMMARY:Rope Jam
DESCRIPTION:Wir laden euch herzlich ein das CRUCIBLE/Vienna als Fesselspielplatz zu nutzen\, euch Auszutauschen und eure Erfahrungen zu teilen! \nEin erfahrenes Fessly wird bei Bedarf ein Beginner’s Corner betreuen und euch die Basics zeigen. \nDer Rope Jam findet wöchentlich jeden Mittwoch statt.
URL:https://www.crucible.at/event/rope-jam-2025-04-09/
LOCATION:CRUCIBLE/Vienna\, Thalhaimergasse 41\, Wien\, 1160\, Österreich
ATTACH;FMTTYPE=image/png:https://www.crucible.at/wp-content/uploads/2023/08/Rope-Jam-Website2.png
END:VEVENT
BEGIN:VEVENT
DTSTART;TZID=Europe/Vienna:20250412T100000
DTEND;TZID=Europe/Vienna:20250412T170000
DTSTAMP:20260424T174311
CREATED:20250327T141737Z
LAST-MODIFIED:20250327T142711Z
UID:10000565-1744452000-1744477200@www.crucible.at
SUMMARY:MISUNGUI: Shibari from a chair! - [External Registration]
DESCRIPTION:For over 10 years I have been regularly tying up people of varied builds and physical conditions\, which has led me to develop techniques to adapt the classic forms of shibari to all bodies and abilities. \n\nAs shibari is my job\, I seek to improve my working conditions and preserve my own body. Indeed\, I am a relatively small person\, let’s say with limited muscular strength and my models are most of the time much taller and heavier than me. \nFor all these reasons\, the stool has appeared as a rather extraordinary tool since it allows me to solve many problems encountered by my models and myself. And then\, beyond the ergonomic aspect of this technique\, I would like to suggest the field of playful possibilities that this approach also opens up.
URL:https://www.crucible.at/event/misungui-chair-2025-04-12/
LOCATION:CRUCIBLE/Vienna\, Thalhaimergasse 41\, Wien\, 1160\, Österreich
ATTACH;FMTTYPE=image/jpeg:https://www.crucible.at/wp-content/uploads/2025/03/tumblr_p3syrsQQkf1syzpx4o8_1280-edited.jpg
END:VEVENT
BEGIN:VEVENT
DTSTART;TZID=Europe/Vienna:20250413T100000
DTEND;TZID=Europe/Vienna:20250413T170000
DTSTAMP:20260424T174311
CREATED:20250327T142401Z
LAST-MODIFIED:20250327T142401Z
UID:10000566-1744538400-1744563600@www.crucible.at
SUMMARY:MISUNGUI: Climb on your model! - [External Registration]
DESCRIPTION:In this workshop we will learn how to use your own body/weight as a sadistic tool. We’ll see how to safely climb on your model when they are suspended\, but also some other tricks I like to use as a tiny rigger to make of my size a benefit.
URL:https://www.crucible.at/event/misungui-climb-2025-04-13/
LOCATION:CRUCIBLE/Vienna\, Thalhaimergasse 41\, Wien\, 1160\, Österreich
ATTACH;FMTTYPE=image/jpeg:https://www.crucible.at/wp-content/uploads/2025/03/photo_2025-01-29_20-07-45-1024x683.jpg.pagespeed.ce_.jMQWokmY0o.jpg
END:VEVENT
BEGIN:VEVENT
DTSTART;TZID=Europe/Vienna:20250416T193000
DTEND;TZID=Europe/Vienna:20250416T233000
DTSTAMP:20260424T174311
CREATED:20250327T115301Z
LAST-MODIFIED:20250327T115312Z
UID:10000557-1744831800-1744846200@www.crucible.at
SUMMARY:Rope Jam
DESCRIPTION:Wir laden euch herzlich ein das CRUCIBLE/Vienna als Fesselspielplatz zu nutzen\, euch Auszutauschen und eure Erfahrungen zu teilen! \nEin erfahrenes Fessly wird bei Bedarf ein Beginner’s Corner betreuen und euch die Basics zeigen. \nDer Rope Jam findet wöchentlich jeden Mittwoch statt.
URL:https://www.crucible.at/event/rope-jam-2025-04-16/
LOCATION:CRUCIBLE/Vienna\, Thalhaimergasse 41\, Wien\, 1160\, Österreich
ATTACH;FMTTYPE=image/png:https://www.crucible.at/wp-content/uploads/2023/08/Rope-Jam-Website2.png
END:VEVENT
BEGIN:VEVENT
DTSTART;TZID=Europe/Vienna:20250423T193000
DTEND;TZID=Europe/Vienna:20250423T233000
DTSTAMP:20260424T174311
CREATED:20250327T115324Z
LAST-MODIFIED:20250327T115324Z
UID:10000558-1745436600-1745451000@www.crucible.at
SUMMARY:Rope Jam
DESCRIPTION:Wir laden euch herzlich ein das CRUCIBLE/Vienna als Fesselspielplatz zu nutzen\, euch Auszutauschen und eure Erfahrungen zu teilen! \nEin erfahrenes Fessly wird bei Bedarf ein Beginner’s Corner betreuen und euch die Basics zeigen. \nDer Rope Jam findet wöchentlich jeden Mittwoch statt.
URL:https://www.crucible.at/event/rope-jam-2025-04-23/
LOCATION:CRUCIBLE/Vienna\, Thalhaimergasse 41\, Wien\, 1160\, Österreich
ATTACH;FMTTYPE=image/png:https://www.crucible.at/wp-content/uploads/2023/08/Rope-Jam-Website2.png
END:VEVENT
BEGIN:VEVENT
DTSTART;TZID=Europe/Vienna:20250430T193000
DTEND;TZID=Europe/Vienna:20250430T233000
DTSTAMP:20260424T174311
CREATED:20250327T115152Z
LAST-MODIFIED:20250327T115340Z
UID:10000559-1746041400-1746055800@www.crucible.at
SUMMARY:Rope Jam
DESCRIPTION:Wir laden euch herzlich ein das CRUCIBLE/Vienna als Fesselspielplatz zu nutzen\, euch Auszutauschen und eure Erfahrungen zu teilen! \nEin erfahrenes Fessly wird bei Bedarf ein Beginner’s Corner betreuen und euch die Basics zeigen. \nDer Rope Jam findet wöchentlich jeden Mittwoch statt.
URL:https://www.crucible.at/event/rope-jam-2025-04-30/
LOCATION:CRUCIBLE/Vienna\, Thalhaimergasse 41\, Wien\, 1160\, Österreich
ATTACH;FMTTYPE=image/png:https://www.crucible.at/wp-content/uploads/2023/08/Rope-Jam-Website2.png
END:VEVENT
END:VCALENDAR