BEGIN:VCALENDAR
VERSION:2.0
PRODID:-//CRUCIBLE - ECPv6.1.3//NONSGML v1.0//EN
CALSCALE:GREGORIAN
METHOD:PUBLISH
X-ORIGINAL-URL:https://www.crucible.at
X-WR-CALDESC:Veranstaltungen für CRUCIBLE
REFRESH-INTERVAL;VALUE=DURATION:PT1H
X-Robots-Tag:noindex
X-PUBLISHED-TTL:PT1H
BEGIN:VTIMEZONE
TZID:Europe/Vienna
BEGIN:DAYLIGHT
TZOFFSETFROM:+0100
TZOFFSETTO:+0200
TZNAME:CEST
DTSTART:20250330T010000
END:DAYLIGHT
BEGIN:STANDARD
TZOFFSETFROM:+0200
TZOFFSETTO:+0100
TZNAME:CET
DTSTART:20251026T010000
END:STANDARD
END:VTIMEZONE
BEGIN:VEVENT
DTSTART;TZID=Europe/Vienna:20250214T210000
DTEND;TZID=Europe/Vienna:20250215T030000
DTSTAMP:20260424T132251
CREATED:20250127T023428Z
LAST-MODIFIED:20250127T023559Z
UID:10000529-1739566800-1739588400@www.crucible.at
SUMMARY:D/secration - A Dark Valentine
DESCRIPTION:Das CRUCIBLE/Vienna feiert den Jahrestag ihres ersten Events und wer uns schon besucht hat\, weiß warum es eine Entweihungsparty anstatt einer Einweihung war.\nZelebriert mit uns eine Feier in rot und pink\, schwarz und weiß wenn es heisst: ….be my dark valentine
URL:https://www.crucible.at/event/d-secration-a-dark-valentine-2025-02-14/
LOCATION:CRUCIBLE/Vienna\, Thalhaimergasse 41\, Wien\, 1160\, Österreich
ATTACH;FMTTYPE=image/png:https://www.crucible.at/wp-content/uploads/2024/01/website-DarkV.png
END:VEVENT
END:VCALENDAR