BEGIN:VCALENDAR
VERSION:2.0
PRODID:-//CRUCIBLE - ECPv6.1.3//NONSGML v1.0//EN
CALSCALE:GREGORIAN
METHOD:PUBLISH
X-ORIGINAL-URL:https://www.crucible.at
X-WR-CALDESC:Veranstaltungen für CRUCIBLE
REFRESH-INTERVAL;VALUE=DURATION:PT1H
X-Robots-Tag:noindex
X-PUBLISHED-TTL:PT1H
BEGIN:VTIMEZONE
TZID:Europe/Vienna
BEGIN:DAYLIGHT
TZOFFSETFROM:+0100
TZOFFSETTO:+0200
TZNAME:CEST
DTSTART:20250330T010000
END:DAYLIGHT
BEGIN:STANDARD
TZOFFSETFROM:+0200
TZOFFSETTO:+0100
TZNAME:CET
DTSTART:20251026T010000
END:STANDARD
END:VTIMEZONE
BEGIN:VEVENT
DTSTART;TZID=Europe/Vienna:20250308T183000
DTEND;TZID=Europe/Vienna:20250309T030000
DTSTAMP:20260424T115803
CREATED:20250205T024156Z
LAST-MODIFIED:20250207T044319Z
UID:10000539-1741458600-1741489200@www.crucible.at
SUMMARY:Bacchanalia Vienna - [Externe Anmeldung]
DESCRIPTION:Salve werte Bacchanten! \nAm 8. März feiern wir wieder das Fest des Bacchus in Wien. Lasst uns gemeinsam der Gottheit des Weines\, der Freude\, der Trauben\, der Fruchtbarkeit\, des Wahnsinns und der Ekstase huldigen und ihm ein würdiges Fest abhalten. \nANMELDUNG AUSSCHLIEßLICH ÜBER DIE WEBSITE!\nhttps://bacchanalia-vienna.at \nDer Abend wird von der Hohepriesterin des Bacchus und dem Zeremonienmeister moderiert. Mit geplanten Performances und süßem\, römischen Gewürzwein bitten wir Bacchus gemeinsam um sein Wohlwollen. Servi stehen bereit\, die Gäste des Bacchus in bester römischer Manier zu bedienen und zu verwöhnen. \nWann: 8. März 2025\nEinlass ist zwischen 18:30-20 Uhr. Das moderierte Programm findet zwischen 21 und 24 Uhr statt. Ende: 3 Uhr Früh.\nEintritt ab 18 Jahren. \n\nBacchanten forderten seit jeher gesellschaftliche Vorgaben\, wie eine Person sich zu fühlen und auszusehen hat\, heraus. Auch diesmal möchten wir mit euch zusammen einen Raum schaffen\, in dem sich jede Persönlichkeit unabhängig von den gesellschaftlichen Normen offen und uneingeschränkt zeigen kann und von allen akzeptiert wird. Bacchanalia waren schon immer und werden auch diesmal queerfreundlich sein. \nDas Fest des Bacchus wurde als einer der wenigen Feiern im alten Rom von Frauen gegründet und erst später für andere Geschlechter geöffnet. Dem Fest durfte bereits in der Antike jede Person unabhängig von sexuellen Vorlieben\, gesellschaftlichem Stand oder Gender frei beiwohnen. Ob du dich als Mann\, Frau\, beides oder geschlechtslos\, als Mensch oder Tier\, Fabelwesen oder Gottheit fühlst\, an diesem Abend vermagst du dein eigenes Selbst sein! \n 
URL:https://www.crucible.at/event/bacchanalia-2025-03-08/
LOCATION:CRUCIBLE/Vienna\, Thalhaimergasse 41\, Wien\, 1160\, Österreich
ATTACH;FMTTYPE=image/png:https://www.crucible.at/wp-content/uploads/2025/02/Screenshot-2025-02-04-at-13-17-48-Bacchanalia-Vienna-Event-FetLife.png
END:VEVENT
END:VCALENDAR