BEGIN:VCALENDAR
VERSION:2.0
PRODID:-//CRUCIBLE - ECPv6.1.3//NONSGML v1.0//EN
CALSCALE:GREGORIAN
METHOD:PUBLISH
X-WR-CALNAME:CRUCIBLE
X-ORIGINAL-URL:https://www.crucible.at
X-WR-CALDESC:Veranstaltungen für CRUCIBLE
REFRESH-INTERVAL;VALUE=DURATION:PT1H
X-Robots-Tag:noindex
X-PUBLISHED-TTL:PT1H
BEGIN:VTIMEZONE
TZID:Europe/Vienna
BEGIN:DAYLIGHT
TZOFFSETFROM:+0100
TZOFFSETTO:+0200
TZNAME:CEST
DTSTART:20260329T010000
END:DAYLIGHT
BEGIN:STANDARD
TZOFFSETFROM:+0200
TZOFFSETTO:+0100
TZNAME:CET
DTSTART:20261025T010000
END:STANDARD
END:VTIMEZONE
BEGIN:VEVENT
DTSTART;TZID=Europe/Vienna:20260130T210000
DTEND;TZID=Europe/Vienna:20260131T030000
DTSTAMP:20260419T182555
CREATED:20251229T204119Z
LAST-MODIFIED:20251229T204119Z
UID:10000685-1769806800-1769828400@www.crucible.at
SUMMARY:Heavenly Desires - A LesBiSM Event
DESCRIPTION:Join the first LesBiSM party of the year for a night when the stars shine brighter\, the gates of heaven open and the power of mighty god:desses unleash! \nThe event is open for everyone into lesbian and bisexual SM playstyles. Chat\, get to know each other\, share experiences\, play\, and have fun <3
URL:https://www.crucible.at/event/lesbism-heavenly-desires-2026-01-30/
LOCATION:CRUCIBLE/Vienna\, Thalhaimergasse 41\, Wien\, 1160\, Österreich
ATTACH;FMTTYPE=image/jpeg:https://www.crucible.at/wp-content/uploads/2025/12/heic0514a.jpg
END:VEVENT
END:VCALENDAR